BEGIN:VCALENDAR
VERSION:2.0
PRODID:-//Explosiv - ECPv6.15.20//NONSGML v1.0//EN
CALSCALE:GREGORIAN
METHOD:PUBLISH
X-ORIGINAL-URL:https://www.explosiv.at
X-WR-CALDESC:Veranstaltungen für Explosiv
REFRESH-INTERVAL;VALUE=DURATION:PT1H
X-Robots-Tag:noindex
X-PUBLISHED-TTL:PT1H
BEGIN:VTIMEZONE
TZID:Europe/Berlin
BEGIN:DAYLIGHT
TZOFFSETFROM:+0100
TZOFFSETTO:+0200
TZNAME:CEST
DTSTART:20210328T010000
END:DAYLIGHT
BEGIN:STANDARD
TZOFFSETFROM:+0200
TZOFFSETTO:+0100
TZNAME:CET
DTSTART:20211031T010000
END:STANDARD
BEGIN:DAYLIGHT
TZOFFSETFROM:+0100
TZOFFSETTO:+0200
TZNAME:CEST
DTSTART:20220327T010000
END:DAYLIGHT
BEGIN:STANDARD
TZOFFSETFROM:+0200
TZOFFSETTO:+0100
TZNAME:CET
DTSTART:20221030T010000
END:STANDARD
BEGIN:DAYLIGHT
TZOFFSETFROM:+0100
TZOFFSETTO:+0200
TZNAME:CEST
DTSTART:20230326T010000
END:DAYLIGHT
BEGIN:STANDARD
TZOFFSETFROM:+0200
TZOFFSETTO:+0100
TZNAME:CET
DTSTART:20231029T010000
END:STANDARD
END:VTIMEZONE
BEGIN:VEVENT
DTSTART;TZID=Europe/Berlin:20220802T173000
DTEND;TZID=Europe/Berlin:20220802T183000
DTSTAMP:20260421T104030
CREATED:20220511T074019Z
LAST-MODIFIED:20220524T113734Z
UID:12815-1659461400-1659465000@www.explosiv.at
SUMMARY:Hula Hoop Workshop – HoopDance für AnfängerInnen
DESCRIPTION:Einlass: 17:00 Uhr\nBeginn: 17:30 Uhr – 18:30 Uhr\nEintritt: freiwillige Spende ((Spendenempfehlung 10\,– bis 15\,–)\nAnfängerInnen Workshop für Groß und Klein:\nDu möchtest etwas Neues ausprobieren? Lust auf Tanz\, Abwechslung und Fitness im Einklang? Dann bist du bei HoopDance genau richtig!\nLerne die Grundlagen kennen\, den richtigen Umgang mit dem Reifen und Tricks und Kniffe\, die dir das Spiel zur reinen Freude machen! Spielerisch und effizient werden alle Muskeln\, Gleichgewicht und Ausdauer trainiert.\nkeine Vorkenntnisse notwendig;\nkeine Voranmeldung;\nReifen werden zur Verfügung gestellt (auch kleine Reifen für Kinder)\nEmpfehlung: Eng anliegende Kleidung aus Baumwolle\nMaga. phil. Katharina Nelböck-Hochstetter\, zertifizierte HoopDance-Instruktorin\nHomepage: https://www.hoop-r-evolution.at\nEmail: hoop-revolution@gmx.at
URL:https://www.explosiv.at/event/hula-hoop-workshop-hoopdance-fuer-anfaengerinnen-5/
CATEGORIES:Explo Academy: Workshop
ATTACH;FMTTYPE=image/jpeg:https://www.explosiv.at/wp-content/uploads/2022/05/HoopDance_2022_FB_V2.jpg
END:VEVENT
BEGIN:VEVENT
DTSTART;TZID=Europe/Berlin:20220804T170000
DTEND;TZID=Europe/Berlin:20220804T220000
DTSTAMP:20260421T104030
CREATED:20220524T121840Z
LAST-MODIFIED:20220524T121841Z
UID:12866-1659632400-1659650400@www.explosiv.at
SUMMARY:Game On - Spieleabend
DESCRIPTION:Beginn: 17:00 Uhr bis 22:00 Uhr\nIhr schnappt euch bei Mario Kart stets den ersten Platz? Ihr seid unschlagbar bei den Minispielen von Mario Party? Ihr wisst immer am Meisten bei Quizspielen?\nWir haben eine große Auswahl an Spielen für die Nintendo Switch Konsole und ihr könnt euch aussuchen was gespielt wird!\nLet’s game! \n#kjuz_explosiv #offenerbetrieb #nintendoswitch #gamenight #gameon #spieleabend #zocken #newgames #oldgames #kult #gemeinsam #zusammen #werwirdsiegen #sovielauswahl #sovielspaß
URL:https://www.explosiv.at/event/game-on-spieleabend-2/
LOCATION:Explosiv Bar\, Bahnhofgürtel 55A\, Graz\, 8020\, Österreich
CATEGORIES:Events,Explo Academy: Workshop
ATTACH;FMTTYPE=image/jpeg:https://www.explosiv.at/wp-content/uploads/2022/05/Spieleabend_20220804_GameOn_FB.jpg
END:VEVENT
BEGIN:VEVENT
DTSTART;TZID=Europe/Berlin:20220805T140000
DTEND;TZID=Europe/Berlin:20220805T160000
DTSTAMP:20260421T104030
CREATED:20220511T072524Z
LAST-MODIFIED:20220524T113708Z
UID:12808-1659708000-1659715200@www.explosiv.at
SUMMARY:Jugendzirkus „Zirkus aus dem Koffer“
DESCRIPTION:Beginn: 14:00 Uhr – 16:00 Uhr\nEintritt: freiwillige Spende\nVoranmeldung unter: katharina.nh@explosiv.at\nJugendzirkus „Zirkus aus dem Koffer“\nDer Zirkus kommt ins Explosiv! Dabei geht es bunt und lustig zu! Es wird mit Bällen\, Keulen\, Hüten und Tüchern jongliert\, Federn balanciert\, Pois\, Teller\, Flower Sticks und Diabolos gedreht\, mit Gymnastikbändern und Hula-Hoop-Reifen getanzt! Mit der Zirkus- und Sozialpädagogin Kata könnt ihr in der Zirkusschule aus dem Koffer die Zirkuskünste kennenlernen und viel Neues ausprobieren!\nab 8 Jahren – keine Vorkenntnisse notwendig\nVoranmeldung unter: katharina.nh@explosiv.at\nwww.hoop-r-evolution.at
URL:https://www.explosiv.at/event/jugendzirkus-zirkus-aus-dem-koffer/
CATEGORIES:Explo Academy: Workshop
ATTACH;FMTTYPE=image/jpeg:https://www.explosiv.at/wp-content/uploads/2022/05/Workshop_20210805_Jugendzirkus_FB.jpg
END:VEVENT
BEGIN:VEVENT
DTSTART;TZID=Europe/Berlin:20220805T170000
DTEND;TZID=Europe/Berlin:20220805T220000
DTSTAMP:20260421T104030
CREATED:20220524T121955Z
LAST-MODIFIED:20220524T121956Z
UID:12869-1659718800-1659736800@www.explosiv.at
SUMMARY:Game On - Spieleabend
DESCRIPTION:Beginn: 17:00 Uhr bis 22:00 Uhr\nIhr schnappt euch bei Mario Kart stets den ersten Platz? Ihr seid unschlagbar bei den Minispielen von Mario Party? Ihr wisst immer am Meisten bei Quizspielen?\nWir haben eine große Auswahl an Spielen für die Nintendo Switch Konsole und ihr könnt euch aussuchen was gespielt wird!\nLet’s game! \n#kjuz_explosiv #offenerbetrieb #nintendoswitch #gamenight #gameon #spieleabend #zocken #newgames #oldgames #kult #gemeinsam #zusammen #werwirdsiegen #sovielauswahl #sovielspaß
URL:https://www.explosiv.at/event/game-on-spieleabend-3/
LOCATION:Explosiv Bar\, Bahnhofgürtel 55A\, Graz\, 8020\, Österreich
CATEGORIES:Events,Explo Academy: Workshop
ATTACH;FMTTYPE=image/jpeg:https://www.explosiv.at/wp-content/uploads/2022/05/Spieleabend_20220805_GameOn_FB.jpg
END:VEVENT
BEGIN:VEVENT
DTSTART;TZID=Europe/Berlin:20220806T180000
DTEND;TZID=Europe/Berlin:20220806T233000
DTSTAMP:20260421T104030
CREATED:20220524T123720Z
LAST-MODIFIED:20220524T123720Z
UID:12875-1659808800-1659828600@www.explosiv.at
SUMMARY:DJ Satan (A); DJ Seitan (A) & DJ Hvmmvs (A)
DESCRIPTION:Beginn: 18:00 Uhr\nEintritt: frei\nDJ SATAN/DJ SEITAN\nDas bewährte Doppel SATAN/SEITAN lässt sich auch 2022 nicht lumpen und spendiert Feinkost direkt vom Plattenteller. Doom\, Sludge\, Death\, Black\, Thrash\, Speed\, 80ies Classics\, you name it… Wer da nix spürt ist nicht zu retten! \nDJ HVMMVS\nBrandneu gibt es nun auch den Dritten im Bunde. Lasst euch überraschen! \n#juz_explosiv #auflegerei #sommerprogramm #dj #djset #canyouplaythissong #djsatan #djseitan #djhvmmvs #musik #kult #keinplatzfürhate #jugendarbeitwirkt
URL:https://www.explosiv.at/event/dj-satan-a-dj-seitan-a-dj-hvmmvs-a-2/
LOCATION:Explosiv Bar\, Bahnhofgürtel 55A\, Graz\, 8020\, Österreich
CATEGORIES:Events,Explo Academy: Workshop
ATTACH;FMTTYPE=image/jpeg:https://www.explosiv.at/wp-content/uploads/2022/05/Auflegerei_20220806_DJ_FB.jpg
END:VEVENT
BEGIN:VEVENT
DTSTART;TZID=Europe/Berlin:20220811T193000
DTEND;TZID=Europe/Berlin:20220811T233000
DTSTAMP:20260421T104030
CREATED:20220331T105901Z
LAST-MODIFIED:20230724T135636Z
UID:12741-1660246200-1660260600@www.explosiv.at
SUMMARY:The Real McKenzies (CAN); Chris Magerl and The Burning Flags (A)
DESCRIPTION:Einlass: 19:30 Uhr\nEintritt: AK 20\,–/ VVK 17\,–\nTickets:  Explosiv\, Inandout Records (Neutorgasse 47\, 8010 Graz)\nTHE REAL MCKENZIES\nGegründet 1992 von dem überlebensgroßen schottischen Punkrock-Dichter\, Mr. Paul McKenzie\, hat diese fröhliche Bande von Schurken ein Vierteljahrhundert die Welt umsegelt\, um den McKenzies-Gospel zu einer ständig wachsenden Schar von Rebellen\, Lausbuben und Tunichtgute zu bringen. Es gibt nicht viele Bands\, die eine 30-jährige Karriere auf dem Buckel haben und so atemberaubend abenteuerlich\, stürmisch und absolut todesmutig sind wie THE REAL MCKENZIES. Es wäre ein schwerer Fehler\, sie als eine weitere Celtic-Punk-Band abzuschreiben (immerhin gibt es sie schon länger als die DROPKICK MURPHYS). Sie sind ein unaufhaltsamer Moloch des Tour-Wahnsinns. Sie sind eine wilde Truppe wahnsinnig talentierter Minnesänger\, Geschichtenerzähler und Entertainer\, die traditionelle akustische und elektrische Instrumente miteinander verschmelzen\, um einen unvergleichlichen Sound zu erzeugen. Ihre Liste der Auszeichnungen ist lang. Vom Teilen der Bühne mit beispielsweise NOFX\, RANCID\, FLOGGING MOLLY\, METALLICA und SHANE MCGOWAN\, über Auftritte in Filmen\, Büchern und Videospielen\, bis hin zum Unterzeichnen bei den legendären Fat Wreck Chords\, wächst ihre Legende immer weiter. Ihr neues Album „Float Me Boat“ ist die ultimative Sammlung Kilt-verdrehender Klassiker der Folk-Punks THE REAL MCKENZIES. Es umfasst 23 mitreißende Refrains\, die ihre 30 Jahre als Band perfekt zusammenfassen.\nWas die Presse sagt:\n„Die Real McKenzies sind die seltene Truppe\, die mit jedem Album besser wird.“.\n– Punknews\n„Sie haben sich nie weit von ihrer einzigartigen Mischung aus schottischem Folk und Spirit of ’77 Punkrock entfernt. Ähnlich wie bei den Dropkick Murphys aus Boston ist auf jeder der Veröffentlichungen von The Real McKenzies reichlich Dudelsack zu hören\, der sich gut für das Ohr der Band für Melodien eignet.“\n– Absolutepunk \nCHRIS MAGERL AND THE BURNING FLAGS\nFRANK TURNER AND THE SLEEPING SOULS\, FRANK CARTER AND THE RATTLESNAKES und jetzt auch noch CHRIS MAGERL AND THE BURNING FLAGS? Muss das sein? Muss sein! Und wie!\n…Until the day I die!..\nWer die österreichische Musikszene verfolgt\, der kennt auch CHRIS MAGERL. Der gebürtige Grazer spielt sich seit über 20 Jahren den Buckel krumm und die Stimme rau. Zuerst in Hardcore Bands und dann über 10 Jahre ganz leise mit Akustik-Gitarre und netten Geschichten im Rucksack. Da CHRIS MAGERL aber doch ein geselliger Typ und laut nun mal lauter als leise ist\, sollte wieder eine Band her – die BURNING FLAGS. Als CHRIS MAGERL AND THE BURNING FLAGS – im Jahr 2019 gegründet – machen die 5 Musiker*innen das\, worauf sie Bock haben – Musik. …Whisky & Beer…\nZwischen FRANK TURNER\, den SPANISH LOVE SONGS und THE GASLIGHT ANTHEM finden sie einen Sound\, den es so hierzulande kaum gibt. Mal punkig\, mal poppiger – dann wieder ganz ruhig und gefühlvoll\, nur um im nächsten Moment grinsend mit den Zähnen voran gegen den Bordstein zu knallen. Whisky & Beer draufgießen und weitermachen! Inhaltlich wird die feine Klinge des Storytellings bedient – tiefschichtig und authentisch – und der Schlagring gegen Fremdenhass\, rechtes Gedankengut\, Homophobie und Misogynie erhoben. …Welcome to the Morning Show…\nDass die Kombo menschlich und musikalisch passt\, war sofort klar. CMBF sprühten von Anfang an vor Energie und Kreativität\, weshalb nach nur drei Proben in aktueller Bandbesetzung in einer Livesession ihr Debüt „Lost Summer Sessions“ entstand. Eine Split 7 Inch mit HURRICANE SEASON\, welche über das Punkrock Label „SBÄM Records“ erschien. …When we return… Nach ersten gefeierten Live-Auftritten ging es im Frühjahr 2021 wieder ins Studio um die erste gemeinsame Langspielplatte\, denn das macht man heutzutage wieder so\, aufzunehmen. Auf „Sand Timer“ finden sich zwölf Songs wieder\, die musikalisch die komplette Bandbreite der Fünf abdecken. Dass man mittlerweile auch in der hiesigen Punkrock-Szene angelangt ist\, beweist die erneute Zusammenarbeit mit „SBÄM Records“ und dass man mit der Kieler Streetpunk-Band THE DETECTORS auch einen hochkarätigen Feature-Gast auf der neuen Platte begrüßen darf. Über das erste Studioalbum heißt es zum Beispiel im OX-Fanzine “Was für ein Debüt! Hymnisch gut.” Oder “(…) beindruckendes Hitfeuerwerk”.\nDiskografie:\n2020 – „Lost Summer Sessions“ – 7 Inch with Hurricane Season –SBÄM Records\n2021 – “Sand Timer” – LP –SBÄM Records\nhttps://www.youtube.com/watch?v=o1il6bo7OME
URL:https://www.explosiv.at/event/the-real-mckenzies-can/
LOCATION:Explosiv Halle\, Bahnhofgürtel 55A\, Graz\, 8020\, Österreich
CATEGORIES:Eigenveranstaltung
ATTACH;FMTTYPE=image/jpeg:https://www.explosiv.at/wp-content/uploads/2022/03/EVA_20220811_TheRealMcKenzies_FB-1.jpg
END:VEVENT
BEGIN:VEVENT
DTSTART;TZID=Europe/Berlin:20220812T170000
DTEND;TZID=Europe/Berlin:20220812T220000
DTSTAMP:20260421T104030
CREATED:20220524T125428Z
LAST-MODIFIED:20220524T125428Z
UID:12881-1660323600-1660341600@www.explosiv.at
SUMMARY:MOVIE NIGHT - HEAVY TRIP
DESCRIPTION:Einlass: 17:00 Uhr\nFilmstart: 20:00 Uhr\nEintritt: frei\nDie Jungs in „Heavy Trip“ sehen zwar nicht sehr bedrohlich aus\, bilden aber die finnische Metal-Band «Impaled Rektum» und sind fest entschlossen\, es auf Teufel komm raus zu einem Festivalauftritt nach Norwegen zu schaffen. Die Reise in diesem Falle ist definitiv wichtiger als das Ziel. \n#juz_explosiv #movienight #filmabend #heavytrip #film #kino #jugendarbeitwirkt #keinplatzfürhate
URL:https://www.explosiv.at/event/movie-night-heavy-trip/
CATEGORIES:Events,Movies
ATTACH;FMTTYPE=image/jpeg:https://www.explosiv.at/wp-content/uploads/2022/05/Explo-Academy-MovieNight-20220812-FB.jpg
END:VEVENT
BEGIN:VEVENT
DTSTART;TZID=Europe/Berlin:20220813T180000
DTEND;TZID=Europe/Berlin:20220813T233000
DTSTAMP:20260421T104030
CREATED:20220524T123846Z
LAST-MODIFIED:20220812T094806Z
UID:12878-1660413600-1660433400@www.explosiv.at
SUMMARY:ABGESAGT! - DJ Satan (A); DJ Seitan (A) & DJ Hvmmvs (A)
DESCRIPTION:ACHTUNG!\nLEIDER MÜSSEN WIR KRANKHEITSBEDINGT DIE VERANSTALTUNG ABSAGEN!\nBeginn: 18:00 Uhr\nEintritt: frei\nDJ SATAN/DJ SEITAN\nDas bewährte Doppel SATAN/SEITAN lässt sich auch 2022 nicht lumpen und spendiert Feinkost direkt vom Plattenteller. Doom\, Sludge\, Death\, Black\, Thrash\, Speed\, 80ies Classics\, you name it… Wer da nix spürt ist nicht zu retten! \nDJ HVMMVS\nBrandneu gibt es nun auch den Dritten im Bunde. Lasst euch überraschen! \n#juz_explosiv #auflegerei #sommerprogramm #dj #djset #canyouplaythissong #djsatan #djseitan #djhvmmvs #musik #kult #keinplatzfürhate #jugendarbeitwirkt
URL:https://www.explosiv.at/event/dj-satan-a-dj-seitan-a-dj-hvmmvs-a-3/
LOCATION:Explosiv Bar\, Bahnhofgürtel 55A\, Graz\, 8020\, Österreich
CATEGORIES:Events,Explo Academy: Workshop
ATTACH;FMTTYPE=image/jpeg:https://www.explosiv.at/wp-content/uploads/2022/05/Auflegerei_20220813_DJ_FB.jpg
END:VEVENT
BEGIN:VEVENT
DTSTART;TZID=Europe/Berlin:20220816T173000
DTEND;TZID=Europe/Berlin:20220816T183000
DTSTAMP:20260421T104030
CREATED:20220511T080032Z
LAST-MODIFIED:20220524T113618Z
UID:12823-1660671000-1660674600@www.explosiv.at
SUMMARY:Hula Hoop Workshop – HoopDance für Fortgeschrittene
DESCRIPTION:Einlass: 17:00 Uhr\nBeginn: 17:30 Uhr – 18:30 Uhr\nEintritt: freiwillige Spende ((Spendenempfehlung 10\,– bis 15\,–)\nHoopDance für Fortgeschrittene:\nDu möchtest dich weiterentwickeln? Fühlst dich mit den Grundübungen des Hula Hoop Spielens (wie z.B. um Hüfte\, Beine und Brust) sicher und willst schwierigere Tricks und mehr tänzerische Bewegungen mit und in deinem Reifen erlernen?\nSteigere dein Level\, werde freier in deinem Spiel und beginne wirklich mit deinem Reifen zu tanzen.\nVorkenntnisse notwendig: Basisübungen wie das Spielen um Hüfte\, Beine und Brust;\nkeine Voranmeldung;\nReifen werden zur Verfügung gestellt (auch kleine Reifen für Kinder)\nEmpfehlung: Eng anliegende Kleidung aus Baumwolle\nHomepage: https://www.hoop-r-evolution.at\nEmail: hoop-revolution@gmx.at
URL:https://www.explosiv.at/event/hula-hoop-workshop-hoopdance-fuer-fortgeschrittene-11/
CATEGORIES:Explo Academy: Workshop
ATTACH;FMTTYPE=image/jpeg:https://www.explosiv.at/wp-content/uploads/2022/05/HoopDance_2022_FB_V2.jpg
END:VEVENT
BEGIN:VEVENT
DTSTART;TZID=Europe/Berlin:20220818T200000
DTEND;TZID=Europe/Berlin:20220818T233000
DTSTAMP:20260421T104030
CREATED:20211222T175926Z
LAST-MODIFIED:20230724T135705Z
UID:12466-1660852800-1660865400@www.explosiv.at
SUMMARY:Black Square (D); The Snub (A)
DESCRIPTION:Einlass 20:00 Uhr\nEintritt: AK 12\,–\nBLACK SQUARE\nhaben sich während der Corona-Pandemie im März 2020 gegründet. Während #staythefuckhome skandiert wurde\, um die Schwächsten in der Gesellschaft zu schützen\, entfernte die Polizei im Ruhrgebiet BPoC und wohnungslose Menschen aus den Parks. Ganz egal\, ob Abstandsregeln eingehalten wurden oder wie groß die Gruppen waren. Einfach\, weil es nun ganz offen ging\, den eigenen Rassismus als Solidarität auszugeben. Fini und Bonny wurden regelmäßig Zeug*innen dieser „Säuberungsaktionen“ und wussten nicht wohin mit sich. Des Weiteren war auch das Proben und Gestalten mit mehr als zwei Menschen nicht mehr möglich\, weswegen die sonstigen (Musik-)Projekte der Bandmitglieder aus Infektionsschutzgründen ruhten. Somit auch die Möglichkeit\, sich Ausdruck und Gehör zu verschaffen. Beide drängten außerdem die unguten Fragen: Was wird an Kulturprojekten “nach” Corona noch existieren? Wie können wir noch unsere Wut ausdrücken? Soll mensch nun solange abwarten und einfach gar nichts tun? Das Resultat aus dieser Gefühlslage ist eine neue\, hochmotivierte Band\, die in Eigenregie\, nach dem Demo-Tape „Potatoes gonna Potate“\, jetzt ein full-length Album aufgenommen hat und jenes über Plastic Bomb und Keep It A Secret Records auf Vinyl herausbringen wird. Musikalisch nennen die Einen es Neo-Crust\, die Anderen eher politischen Post-Punk mit Hexenstimme. Ist im Endeffekt aber ganz egal\, denn eine kreischende Fini steht im Vordergrund\, untermalt von zwei Gitarren\, einem Bass und einem Schlagzeug. \nTHE SNUB\nEin zufälliges Treffen am Christkindlmarkt im Jahre 2015\, eine Jamsession einen Tag darauf und schon hat sich eine neue Band gegründet. In kurzer Zeit war die Besetzung komplett und für einen Namen haben sich die 4 Gründungsmitglieder auch schnell entscheiden können: THE SNUB! War der Sound der Band anfangs noch stark von Stoner Rock und HC Punk der alten Schule geprägt\, sind die Klänge heutzutage um einiges härter. Nun kommen die Einflüsse aus dem Grindcore\, HC und Crustpunk. Durch enge Zusammenarbeit der Bandmitglieder sind die Songs mit größtenteils Sozialkritischen Texten ausgestattet\, untermalt von schneidenden Gitarren und dröhnendem Bass. Zusammenfassend ist THE SNUB eine hoch energetische Band\, die man am besten live erlebt!
URL:https://www.explosiv.at/event/black-square-d/
LOCATION:Explosiv Bar\, Bahnhofgürtel 55A\, Graz\, 8020\, Österreich
CATEGORIES:Eigenveranstaltung
ATTACH;FMTTYPE=image/jpeg:https://www.explosiv.at/wp-content/uploads/2021/12/EVA_20220818_BlackSquare_FB_Neu.jpg
END:VEVENT
BEGIN:VEVENT
DTSTART;TZID=Europe/Berlin:20220819T170000
DTEND;TZID=Europe/Berlin:20220819T220000
DTSTAMP:20260421T104030
CREATED:20220524T122154Z
LAST-MODIFIED:20220524T122155Z
UID:12872-1660928400-1660946400@www.explosiv.at
SUMMARY:Game On - Spieleabend
DESCRIPTION:Beginn: 17:00 Uhr bis 22:00 Uhr\nIhr schnappt euch bei Mario Kart stets den ersten Platz? Ihr seid unschlagbar bei den Minispielen von Mario Party? Ihr wisst immer am Meisten bei Quizspielen?\nWir haben eine große Auswahl an Spielen für die Nintendo Switch Konsole und ihr könnt euch aussuchen was gespielt wird!\nLet’s game! \n#kjuz_explosiv #offenerbetrieb #nintendoswitch #gamenight #gameon #spieleabend #zocken #newgames #oldgames #kult #gemeinsam #zusammen #werwirdsiegen #sovielauswahl #sovielspaß
URL:https://www.explosiv.at/event/game-on-spieleabend-4/
LOCATION:Explosiv Bar\, Bahnhofgürtel 55A\, Graz\, 8020\, Österreich
CATEGORIES:Events,Explo Academy: Workshop
ATTACH;FMTTYPE=image/jpeg:https://www.explosiv.at/wp-content/uploads/2022/05/Spieleabend_20220819_GameOn_FB.jpg
END:VEVENT
BEGIN:VEVENT
DTSTART;TZID=Europe/Berlin:20220820T180000
DTEND;TZID=Europe/Berlin:20220820T233000
DTSTAMP:20260421T104030
CREATED:20220630T110503Z
LAST-MODIFIED:20220707T181652Z
UID:12913-1661018400-1661038200@www.explosiv.at
SUMMARY:Benefiz Konzert für den Pferde Gnadenhof Edelweiß
DESCRIPTION:Einlass: 18:00 Uhr\nEintritt: freiwillige Spende\nDa das Festival „Tierschutz Rockt“ heuer leider ausfällt\, wollen wir stattdessen gemeinsam mit Bands und vielen netten Leuten an diesem Abend ein Benefiz Konzert geben um den Pferde Gnadenhof Edelweiß zu unterstützen. Also nicht lange überlegen\, kommt vorbei genießt die Musik\, das vegane Essen die Getränke und die Umgebung und tragt gleichzeitig was für den guten Zweck bei. \nTHE FREAKY FRIDAY JAILHOUSE GANG\nbesteht aus Sängerin Lorena Valta\, Gitarrist Markus Steinrück\, Bassist Tobias Steinrück und Drummer Fabian Steinrück. Seit der corona-bedingten Livemusik-Zwangspause gibt es nicht nur neues\, sondern vor allem erstmals auch eigenes von der Grazer Band zu hören. Es erwartet euch eine ausgewogene Mischung aus Funk\, Blues\, Rock und Soul auf ihrem Anfang Mai 2021 erschienenen Debüt-Album. Für den Sommer 2022 ist bereits das Zweite Album geplant\, die erste Single-Auskoppelung „Fonkey Monkey“ gibt es bereits inklusive Musik-Video auf den großen Plattformen zu hören/sehen. \nBLINDGODS\nIn einer Welt geprägt von sozialer Ungleichheit\, korrupten Systemen\, der Zerstörung der Umwelt und Tierleid wollen wir mit unserer Musik ein Zeichen setzen und Menschen damit erreichen\, sich darüber Gedanken zu machen\, denn es betrifft uns alle. \nBEHIND THE RAILS\nsind eine Formation von Individualisten\, die es schaffen\, all ihre Erfahrung und Freude an der Musik in einem Punkt zu vereinen. Einflüsse diverser Metal-Genres von den 90ern bis hin zur Gegenwart prägen ihren Stil. Sie versuchen nicht das Rad neu zu erfinden\, sondern nur eines zu bauen\, das wirklich gut rollt. Wer dennoch gerne in Schubladen denkt\, BEHIND THE RAILS prügeln ihren Groove Metal in die Gehörgänge ihrer Zuhörer.
URL:https://www.explosiv.at/event/benefiz-konzert-fuer-den-pferde-gnadenhof-edelweiss/
LOCATION:Explosiv Bar\, Bahnhofgürtel 55A\, Graz\, 8020\, Österreich
CATEGORIES:Events,Special
ATTACH;FMTTYPE=image/jpeg:https://www.explosiv.at/wp-content/uploads/2022/06/Blindgods.jpg
END:VEVENT
BEGIN:VEVENT
DTSTART;TZID=Europe/Berlin:20220825T183000
DTEND;TZID=Europe/Berlin:20220825T220000
DTSTAMP:20260421T104030
CREATED:20220524T130029Z
LAST-MODIFIED:20220824T083610Z
UID:12884-1661452200-1661464800@www.explosiv.at
SUMMARY:ABGESAGT!!! - Wir müssten [reden] tun - Nachhaltigkeits Workshop
DESCRIPTION:ABGESAGT!!!\nLeider entfällt auf Grund von Erkrankung der Termin!\nBeginn: 18:30 Uhr\nMaterialkosten: ~10\,– \nIm zweiten Teil unserer Nachhaltigkeitsworkshops werden wir alles rund um das Thema Putz- und Reinigungsmittel durchgehen.\nSparsamer Umgang mit Ressourcen\, sowie umweltschonende und gesündere Methoden werden gemeinsam durchgesprochen.\nim Anschluss wird wieder gemeinsam gebastelt und somit Reinigungsmittel hergestellt. \n#juz_explosiv #nachhaltigkeit #umwelt #bewusstsein #geldsparen #plastik #jugendarbeitwirkt #keinplatzfürhate
URL:https://www.explosiv.at/event/wir-muessten-reden-tun-nachhaltigkeits-workshop-2/
CATEGORIES:Explo Academy: Workshop
ATTACH;FMTTYPE=image/jpeg:https://www.explosiv.at/wp-content/uploads/2022/05/Workshop_20220825_Nachhaltigkeitsworkshop_FB.jpg
END:VEVENT
BEGIN:VEVENT
DTSTART;TZID=Europe/Berlin:20220826T170000
DTEND;TZID=Europe/Berlin:20220826T220000
DTSTAMP:20260421T104030
CREATED:20220524T130655Z
LAST-MODIFIED:20220727T155514Z
UID:12887-1661533200-1661551200@www.explosiv.at
SUMMARY:Action Quiz Night – Life Sized Board Game: Trivial Pursuit
DESCRIPTION:Einlass: 17:00 Uhr\nBeginn: Spielbereit ab 17:00\, Große Runde ab 20:00 Uhr\nEintritt: freiwillige Spende\nWo: Bei Schönwetter im Hof\, bei Schlechtwetter in der Veranstaltungshalle\nLiebe Rätselfreund:innen des Explosivs!\nWas in der Form eines Pub-Quiz vor etlichen Jahren begann\, hat sich mittlerweile zu einer Reihe von „Action-Quiz Nights“ entwickelt. Es wurden Teamspiele mit Buzzern abgehalten\, sowie eine Abwandlung des berühmten Spiels „1\, 2 oder 3?“. Für dieses Jahr haben wir uns wieder etwas besonders überlegt: „Life Sized Board Game: Trivial Pursuit”\nIn unserer lebendigen Version wird der Spielende selbst zur Spielfigur!\nDas Spielbrett wird auf dem Boden mit Hilfe von farbigen Feldern nachgebaut und der Spielende zieht\, anstatt einer Spielfigur\, selbst über die Felder.\nJe nach Anzahl der Teilnehmenden wird in Teams oder solo gespielt.\nZusatz: Wir achten genau auf die Corona-Maßnahmen und werden das Spiel je nach momentaner Lage für euch so sicher wie möglich gestalten.\nWir freuen uns auf einen super Abend mit euch! \n#juz_explosiv #trivialpursuit #livesized #actionquiznight #lebensgroß #wievielweißtdu #fragenüberfragen #masterofquiz #offenerbetrieb #keinplatzfürhate #jugendarbeitwirkt
URL:https://www.explosiv.at/event/action-quiz-night-life-sized-board-game-trivial-pursuit-3/
CATEGORIES:Events,Explo Academy: Workshop
ATTACH;FMTTYPE=image/jpeg:https://www.explosiv.at/wp-content/uploads/2022/05/Quiznight_20220826_TrivialPursuit_FB.jpg
END:VEVENT
END:VCALENDAR