BEGIN:VCALENDAR
VERSION:2.0
PRODID:-//Explosiv - ECPv6.15.20//NONSGML v1.0//EN
CALSCALE:GREGORIAN
METHOD:PUBLISH
X-ORIGINAL-URL:https://www.explosiv.at
X-WR-CALDESC:Veranstaltungen für Explosiv
REFRESH-INTERVAL;VALUE=DURATION:PT1H
X-Robots-Tag:noindex
X-PUBLISHED-TTL:PT1H
BEGIN:VTIMEZONE
TZID:Europe/Berlin
BEGIN:DAYLIGHT
TZOFFSETFROM:+0100
TZOFFSETTO:+0200
TZNAME:CEST
DTSTART:20210328T010000
END:DAYLIGHT
BEGIN:STANDARD
TZOFFSETFROM:+0200
TZOFFSETTO:+0100
TZNAME:CET
DTSTART:20211031T010000
END:STANDARD
BEGIN:DAYLIGHT
TZOFFSETFROM:+0100
TZOFFSETTO:+0200
TZNAME:CEST
DTSTART:20220327T010000
END:DAYLIGHT
BEGIN:STANDARD
TZOFFSETFROM:+0200
TZOFFSETTO:+0100
TZNAME:CET
DTSTART:20221030T010000
END:STANDARD
BEGIN:DAYLIGHT
TZOFFSETFROM:+0100
TZOFFSETTO:+0200
TZNAME:CEST
DTSTART:20230326T010000
END:DAYLIGHT
BEGIN:STANDARD
TZOFFSETFROM:+0200
TZOFFSETTO:+0100
TZNAME:CET
DTSTART:20231029T010000
END:STANDARD
END:VTIMEZONE
BEGIN:VEVENT
DTSTART;TZID=Europe/Berlin:20220902T163000
DTEND;TZID=Europe/Berlin:20220902T233000
DTSTAMP:20260423T115752
CREATED:20220705T133159Z
LAST-MODIFIED:20220706T070959Z
UID:12922-1662136200-1662161400@www.explosiv.at
SUMMARY:Death Ritual Graz 2022: Heathen Foray (A); Vinegar Hill (A); Groteskh (A); Agregator (UNG); Isiulusions (A); Nekrodeus (A); Scarecrow N.W.A. (A); Schänder (A)
DESCRIPTION:Einlass: 16:30 Uhr\nEintritt: AK 28\,–/ VVK 22\,–\nTickets: www.ticketmaster.at\, Explosiv\, Tick Tack (Maygasse 12\, 8010 Graz)\, Club Q (Luthergasse 4\, 8010 Graz)\nHEATHEN FORAY\nPagan Metal \nVINEGAR HILL\nMelodic Death Metal \nGROTESKH\nBlack Metal \nAGREGATOR\nDeath Metal \nISIULUSIONS\nAvantgarde Black Metal \nNEKRODEUS\nDoomed Death Metal \nSCARECROW N.W.A.\nProgressive Death Metal \nSCHÄNDER\nBlack Metal
URL:https://www.explosiv.at/event/death-ritual-graz-2022-heathen-foray-a-vinegar-hill-a-groteskh-a-agregator-ung-isiulusions-a-nekrodeus-a-scarecrow-n-w-a-a-schaender-a/
LOCATION:Explosiv Halle\, Bahnhofgürtel 55A\, Graz\, 8020\, Österreich
CATEGORIES:Events,Metal
ATTACH;FMTTYPE=image/jpeg:https://www.explosiv.at/wp-content/uploads/2022/07/02.09.-Death-Ritual.jpg
END:VEVENT
BEGIN:VEVENT
DTSTART;TZID=Europe/Berlin:20220903T193000
DTEND;TZID=Europe/Berlin:20220903T220000
DTSTAMP:20260423T115752
CREATED:20220518T181525Z
LAST-MODIFIED:20220623T105251Z
UID:12837-1662233400-1662242400@www.explosiv.at
SUMMARY:Five and Dime (A)
DESCRIPTION:Einlass: 19:30 Uhr\nEintritt: freiwillige Spende\nFIVE AND DIME\nsind eine fünfköpfige Leibnitzer Musikgruppe\, die seit 2019 gemeinsam Musik machen. Die Band entstand aus der Idee heraus dem oft ermüdenden und stressigen Schul-\, Uni- und Arbeitsalltag zu entfliehen und ihr musikalisches Können durch regelmäßiges Proben und Üben zu verbessern. Neben dem Covern von allbekannten Klassikern aus Rock und Pop\, fokussieren sie sich momentan sehr darauf ihre eigene Kreativität in Songs umzusetzen. Die Band besteht aus Alexander Strauss (Gesang)\, Alexander Heidinger (Bassgitarre und Backingvocals)\, Lorenz Breitenthaler (Schlagzeug und Backingvocals)\, Lea Muster (Gitarre und Vocals) und Kristian Hatz (Gitarre und Klavier).
URL:https://www.explosiv.at/event/five-and-dime-a-3/
LOCATION:Explosiv Bar\, Bahnhofgürtel 55A\, Graz\, 8020\, Österreich
CATEGORIES:Events,Open Stage
ATTACH;FMTTYPE=image/jpeg:https://www.explosiv.at/wp-content/uploads/2022/05/OpenStage_20220903_FiveAndDime_FB.jpg
END:VEVENT
BEGIN:VEVENT
DTSTART;TZID=Europe/Berlin:20220905T170000
DTEND;TZID=Europe/Berlin:20220905T220000
DTSTAMP:20260423T115752
CREATED:20220810T105703Z
LAST-MODIFIED:20220810T105703Z
UID:12984-1662397200-1662415200@www.explosiv.at
SUMMARY:LICHTTECHNIK-WORKSHOP (Teil1)
DESCRIPTION:Datum:\n\nMo.\, 05.09.2022 Einheit 1\nDi.\, 06.09.2022 Einheit 2\nBeginn: 17:00 Uhr\n\n\n\nEndlich ist es wieder soweit…\n\nDas Explosiv veranstaltet einen 2-tägigen Lichttechnik-Workshop und jede/jeder von euch ist herzlich willkommen!\n\n\nAls Jugendzentrum mit aktivem Konzertbetrieb haben wir alles im Haus\, um eine umfangreiche Ausbildung nicht nur theoretisch\, sondern vor allem auch praktisch durchzuführen. Unser kostenloser Workshop gibt euch einen idealen ersten Start in die Welt der Veranstaltungstechnik und bei Interesse kann man gerne ein aktiver Teil unseres technikbegeisterten Teams werden! \n\n\n\n#juz_explosiv #workshop #lichttechnik #licht #technik #veranstaltungstechnik #lights #engineering #tech #machdaslebenbunt #keinplatzfürhate #jugendarbeitwirkt
URL:https://www.explosiv.at/event/lichttechnik-workshop-teil1/
CATEGORIES:Events,Explo Academy: Workshop
ATTACH;FMTTYPE=image/jpeg:https://www.explosiv.at/wp-content/uploads/2022/08/Workshop_2022_Lichttechnik_FB.jpg
END:VEVENT
BEGIN:VEVENT
DTSTART;TZID=Europe/Berlin:20220906T170000
DTEND;TZID=Europe/Berlin:20220906T220000
DTSTAMP:20260423T115752
CREATED:20220810T105548Z
LAST-MODIFIED:20220810T105548Z
UID:12978-1662483600-1662501600@www.explosiv.at
SUMMARY:LICHTTECHNIK-WORKSHOP (Teil 2)
DESCRIPTION:Datum:\n\nMo.\, 05.09.2022 Einheit 1\nDi.\, 06.09.2022 Einheit 2\nBeginn: 17:00 Uhr\n\n\n\nEndlich ist es wieder soweit…\n\nDas Explosiv veranstaltet einen 2-tägigen Lichttechnik-Workshop und jede/jeder von euch ist herzlich willkommen!\n\n\nAls Jugendzentrum mit aktivem Konzertbetrieb haben wir alles im Haus\, um eine umfangreiche Ausbildung nicht nur theoretisch\, sondern vor allem auch praktisch durchzuführen. Unser kostenloser Workshop gibt euch einen idealen ersten Start in die Welt der Veranstaltungstechnik und bei Interesse kann man gerne ein aktiver Teil unseres technikbegeisterten Teams werden! \n\n\n\n#juz_explosiv #workshop #lichttechnik #licht #technik #veranstaltungstechnik #lights #engineering #tech #machdaslebenbunt #keinplatzfürhate #jugendarbeitwirkt
URL:https://www.explosiv.at/event/lichttechnik-workshop-teil-2/
CATEGORIES:Events,Explo Academy: Workshop
ATTACH;FMTTYPE=image/jpeg:https://www.explosiv.at/wp-content/uploads/2022/08/Workshop_2022_Lichttechnik_FB.jpg
END:VEVENT
BEGIN:VEVENT
DTSTART;TZID=Europe/Berlin:20220906T173000
DTEND;TZID=Europe/Berlin:20220906T183000
DTSTAMP:20260423T115752
CREATED:20220511T074118Z
LAST-MODIFIED:20220524T131108Z
UID:12817-1662485400-1662489000@www.explosiv.at
SUMMARY:Hula Hoop Workshop – HoopDance für AnfängerInnen
DESCRIPTION:Einlass: 17:00 Uhr\nBeginn: 17:30 Uhr – 18:30 Uhr\nEintritt: freiwillige Spende ((Spendenempfehlung 10\,– bis 15\,–)\nAnfängerInnen Workshop für Groß und Klein:\nDu möchtest etwas Neues ausprobieren? Lust auf Tanz\, Abwechslung und Fitness im Einklang? Dann bist du bei HoopDance genau richtig!\nLerne die Grundlagen kennen\, den richtigen Umgang mit dem Reifen und Tricks und Kniffe\, die dir das Spiel zur reinen Freude machen! Spielerisch und effizient werden alle Muskeln\, Gleichgewicht und Ausdauer trainiert.\nkeine Vorkenntnisse notwendig;\nkeine Voranmeldung;\nReifen werden zur Verfügung gestellt (auch kleine Reifen für Kinder)\nEmpfehlung: Eng anliegende Kleidung aus Baumwolle\nMaga. phil. Katharina Nelböck-Hochstetter\, zertifizierte HoopDance-Instruktorin\nHomepage: https://www.hoop-r-evolution.at\nEmail: hoop-revolution@gmx.at
URL:https://www.explosiv.at/event/hula-hoop-workshop-hoopdance-fuer-anfaengerinnen-6/
CATEGORIES:Explo Academy: Workshop
ATTACH;FMTTYPE=image/jpeg:https://www.explosiv.at/wp-content/uploads/2022/05/HoopDance_2022_FB_V2.jpg
END:VEVENT
BEGIN:VEVENT
DTSTART;TZID=Europe/Berlin:20220907T184500
DTEND;TZID=Europe/Berlin:20220907T194500
DTSTAMP:20260423T115752
CREATED:20220706T113409Z
LAST-MODIFIED:20220706T113409Z
UID:12930-1662576300-1662579900@www.explosiv.at
SUMMARY:Workshop: Poi Spin für AnfängerInnen
DESCRIPTION:Einlass: 17:00 Uhr\nBeginn: 18:45 Uhr – 19:45 Uhr\nEintritt: freiwillige Spende\nKeine Vorkenntnisse nötig!\nAnmeldung unter: office@vivien-fantasydance.at\nPoi Spin für AnfängerInnen.\nDu möchtest gleichzeitig etwas für deine Gehirnzellen tun\, Spaß haben und beweglicher werden? Dann freue ich mich dir das Spiel mit dem Poi näherzubringen! Was ist Poi eigentlich? Der Ursprung des Poi liegt bei den Maoris in Neuseeland. „Poi“ ist das Maori-Wort für „Ball“\, der am Ende einer Schnur geführt wird und ein wunderbares Synapsen-Training ist.\nDie Koordination beider Hände\, das Raum-Lage-Verständnis und die Augen- Hand-Koordination werden dabei gefördert. Da beim Poischwingen die linke und die rechte Körperhälfte permanent zusammenarbeiten\, wird auch die Funktion beider Gehirnhälften angeregt. Die Beweglichkeit im Bereich der Handgelenke\, Arm- und Schultergelenke werden beim Spielen der Poi geschult. Ziel komplexerer Übungen oder beim Tanzen mit den Poi ist die Verbesserung der Beweglichkeit weiterer Körperpartien.\nKeine Vorkenntnisse nötig! Poi können ausgeliehen werden.\nAnmeldung unter: office@vivien-fantasydance.at\nWorkshopleitung: @vivien_fantasydance
URL:https://www.explosiv.at/event/workshop-poi-spin-fuer-anfaengerinnen/
CATEGORIES:Events,Explo Academy: Workshop
ATTACH;FMTTYPE=image/jpeg:https://www.explosiv.at/wp-content/uploads/2022/07/PoiSpin_2022_Herbst_FB.jpg
END:VEVENT
BEGIN:VEVENT
DTSTART;TZID=Europe/Berlin:20220910T193000
DTEND;TZID=Europe/Berlin:20220910T220000
DTSTAMP:20260423T115752
CREATED:20220720T122532Z
LAST-MODIFIED:20220730T095654Z
UID:12955-1662838200-1662847200@www.explosiv.at
SUMMARY:Bogensberger
DESCRIPTION:Foto: Stefan Tietz\nEinlass: 19:30 Uhr\nBeginn: 20:15 Uhr\nEintritt: freiwillige Spende\nBOGENSBERGER\nerzählt gerne Geschichten und lässt seine Gedanken singen und tanzen. Dies tut er mittels selbst geschriebener Songs\, dargebracht im österreichischen Hochdeutsch\, unterlegt mit akustischer Gitarre. Er entführt uns liedpoetisch und alltagsphilosophisch in die Genüsse und Wirrnisse des Daseins und der Zeit. Dabei nimmt er sich kein Blatt vor dem Mund und kennt weder sprachliche noch gedankliche Tabus. Mit kammermusikalisch bis sphärisch farbigen Arrangements\, die an Konstantin Weckers legendäres Team Musikon erinnern\, tauchen wir mit diesem (wie er sich selbst beschreibt) Anarchistoiden Taoisten ein in den ganzen Rest des Daseins\, zwischen Leben und Tod\, ins Land der tausend Obstbäume\, in den Rachen der Traumfabrik und in weitere Möglichkeiten des Realen bis Absurden\, die doch nichts anderes sein können als verborgene Spiegelungen unserer Seelen\, als versteckte Sehnsüchte unserer Fantasien. Bogensberger gibt in seiner Musikzauberwelt dem Menschlichen vielfach jene Stimme\, die es selbst vielleicht nie gewagt hätte\, zu Wort kommen zu wollen. So originell sprachoffensiv wie liedkünstlerisch ist noch kaum jemand in die Popgeschichte gesprungen. \nBiografisches: 1996 gewann der studierte Philosoph und langjährige Politaktivist den „Forum Stadtpark Literatur Slam“ einen der ersten Poetry Slams Österreichs. Bereits seit 1994 ist er als „Der sensationelle Herr Bogensberger“ mit Programmen wie „Herr Bogensberger musiziert munteren Mutes manchmal mirakulöse Melodeien murmelnd mitnichten mehrstimmig“ auf diversen Bühnen in Österreich\, Deutschland und der Schweiz zu sehen\, wo er seine ureigene Mischung aus Musik\, Literatur\, Kabarett und Theater zum Besten gibt. 2021 erscheint erstmals unter seinem bürgerlichen Namen das Album „Anarchisten auf der Autobahn\, Taoisten unterm Birnenbaum“ bei „Sturm und Klang“. Christian Bogensberger lebt in Berlin und Graz.
URL:https://www.explosiv.at/event/bogensberger/
LOCATION:Explosiv Bar\, Bahnhofgürtel 55A\, Graz\, 8020\, Österreich
CATEGORIES:Events,Open Stage
ATTACH;FMTTYPE=image/jpeg:https://www.explosiv.at/wp-content/uploads/2022/07/OpenStage_20220910_Bogensberger_FB.jpg
END:VEVENT
BEGIN:VEVENT
DTSTART;TZID=Europe/Berlin:20220914T184500
DTEND;TZID=Europe/Berlin:20220914T194500
DTSTAMP:20260423T115752
CREATED:20220706T113528Z
LAST-MODIFIED:20220706T113528Z
UID:12933-1663181100-1663184700@www.explosiv.at
SUMMARY:Workshop: Poi Spin für AnfängerInnen
DESCRIPTION:Einlass: 17:00 Uhr\nBeginn: 18:45 Uhr – 19:45 Uhr\nEintritt: freiwillige Spende\nKeine Vorkenntnisse nötig!\nAnmeldung unter: office@vivien-fantasydance.at\nPoi Spin für AnfängerInnen.\nDu möchtest gleichzeitig etwas für deine Gehirnzellen tun\, Spaß haben und beweglicher werden? Dann freue ich mich dir das Spiel mit dem Poi näherzubringen! Was ist Poi eigentlich? Der Ursprung des Poi liegt bei den Maoris in Neuseeland. „Poi“ ist das Maori-Wort für „Ball“\, der am Ende einer Schnur geführt wird und ein wunderbares Synapsen-Training ist.\nDie Koordination beider Hände\, das Raum-Lage-Verständnis und die Augen- Hand-Koordination werden dabei gefördert. Da beim Poischwingen die linke und die rechte Körperhälfte permanent zusammenarbeiten\, wird auch die Funktion beider Gehirnhälften angeregt. Die Beweglichkeit im Bereich der Handgelenke\, Arm- und Schultergelenke werden beim Spielen der Poi geschult. Ziel komplexerer Übungen oder beim Tanzen mit den Poi ist die Verbesserung der Beweglichkeit weiterer Körperpartien.\nKeine Vorkenntnisse nötig! Poi können ausgeliehen werden.\nAnmeldung unter: office@vivien-fantasydance.at\nWorkshopleitung: @vivien_fantasydance
URL:https://www.explosiv.at/event/workshop-poi-spin-fuer-anfaengerinnen-2/
CATEGORIES:Events,Explo Academy: Workshop
ATTACH;FMTTYPE=image/jpeg:https://www.explosiv.at/wp-content/uploads/2022/07/PoiSpin_2022_Herbst_FB.jpg
END:VEVENT
BEGIN:VEVENT
DTSTART;TZID=Europe/Berlin:20220916T190000
DTEND;TZID=Europe/Berlin:20220916T233000
DTSTAMP:20260423T115752
CREATED:20220222T134003Z
LAST-MODIFIED:20220624T110250Z
UID:12643-1663354800-1663371000@www.explosiv.at
SUMMARY:Never trust a Hippy: DJ Romeo (A); DJ Martin Murpott (A)
DESCRIPTION:Einlass: 19:00 Uhr\nBeginn: 19:30 Uhr\nEintritt: frei\nNever trust a Hippy\nUnd das aus gutem Grund! Auf was ihr allerdings vertrauen dürft ist\, dass DJ ROMEO himself eure halb verstaubten Synthie-Pop-Ohren an diesem Freitag mit massig Punkrock & HC auf Vordermann bringen wird. Nicht umsonst nennt man ihn auch den „JOHN PEEL der südlichen Steiermark“ und nicht umsonst wird er als heißeste Ü50-Aktie seit Anbeginn der Grazer Underground-Szene gehandelt. Mit MARTIN MURPOTT steht ihm dabei einer der aufstrebensten Sterne am sich ständig drehendem Vinyl-Himmel zur Seite. Weniger bekannt aus Film\, Funk & Fernsehen\, dafür aber von allen anderen Plätzen\, wo jemals Punkrock betrieben wurde\, wird auch er seinen Musikgeschmack zum Besten geben. Hinkommen & erfreuen!
URL:https://www.explosiv.at/event/never-trust-a-hippy-dj-romeo-a-dj-martin-murpott-a-6/
LOCATION:Explosiv Bar\, Bahnhofgürtel 55A\, Graz\, 8020\, Österreich
CATEGORIES:DJ Line/ Party,Events
ATTACH;FMTTYPE=image/jpeg:https://www.explosiv.at/wp-content/uploads/2022/02/Explo-Academy-Never-Trust-A-Hippy-2022_V2-FB.jpg
END:VEVENT
BEGIN:VEVENT
DTSTART;TZID=Europe/Berlin:20220920T173000
DTEND;TZID=Europe/Berlin:20220920T183000
DTSTAMP:20260423T115752
CREATED:20220511T080125Z
LAST-MODIFIED:20220524T113545Z
UID:12825-1663695000-1663698600@www.explosiv.at
SUMMARY:Hula Hoop Workshop – HoopDance für Fortgeschrittene
DESCRIPTION:Einlass: 17:00 Uhr\nBeginn: 17:30 Uhr – 18:30 Uhr\nEintritt: freiwillige Spende ((Spendenempfehlung 10\,– bis 15\,–)\nHoopDance für Fortgeschrittene:\nDu möchtest dich weiterentwickeln? Fühlst dich mit den Grundübungen des Hula Hoop Spielens (wie z.B. um Hüfte\, Beine und Brust) sicher und willst schwierigere Tricks und mehr tänzerische Bewegungen mit und in deinem Reifen erlernen?\nSteigere dein Level\, werde freier in deinem Spiel und beginne wirklich mit deinem Reifen zu tanzen.\nVorkenntnisse notwendig: Basisübungen wie das Spielen um Hüfte\, Beine und Brust;\nkeine Voranmeldung;\nReifen werden zur Verfügung gestellt (auch kleine Reifen für Kinder)\nEmpfehlung: Eng anliegende Kleidung aus Baumwolle\nHomepage: https://www.hoop-r-evolution.at\nEmail: hoop-revolution@gmx.at
URL:https://www.explosiv.at/event/hula-hoop-workshop-hoopdance-fuer-fortgeschrittene-12/
CATEGORIES:Explo Academy: Workshop
ATTACH;FMTTYPE=image/jpeg:https://www.explosiv.at/wp-content/uploads/2022/05/HoopDance_2022_FB_V2.jpg
END:VEVENT
BEGIN:VEVENT
DTSTART;TZID=Europe/Berlin:20220921T184500
DTEND;TZID=Europe/Berlin:20220921T194500
DTSTAMP:20260423T115752
CREATED:20220706T113634Z
LAST-MODIFIED:20220706T113634Z
UID:12935-1663785900-1663789500@www.explosiv.at
SUMMARY:Workshop: Poi Spin für AnfängerInnen
DESCRIPTION:Einlass: 17:00 Uhr\nBeginn: 18:45 Uhr – 19:45 Uhr\nEintritt: freiwillige Spende\nKeine Vorkenntnisse nötig!\nAnmeldung unter: office@vivien-fantasydance.at\nPoi Spin für AnfängerInnen.\nDu möchtest gleichzeitig etwas für deine Gehirnzellen tun\, Spaß haben und beweglicher werden? Dann freue ich mich dir das Spiel mit dem Poi näherzubringen! Was ist Poi eigentlich? Der Ursprung des Poi liegt bei den Maoris in Neuseeland. „Poi“ ist das Maori-Wort für „Ball“\, der am Ende einer Schnur geführt wird und ein wunderbares Synapsen-Training ist.\nDie Koordination beider Hände\, das Raum-Lage-Verständnis und die Augen- Hand-Koordination werden dabei gefördert. Da beim Poischwingen die linke und die rechte Körperhälfte permanent zusammenarbeiten\, wird auch die Funktion beider Gehirnhälften angeregt. Die Beweglichkeit im Bereich der Handgelenke\, Arm- und Schultergelenke werden beim Spielen der Poi geschult. Ziel komplexerer Übungen oder beim Tanzen mit den Poi ist die Verbesserung der Beweglichkeit weiterer Körperpartien.\nKeine Vorkenntnisse nötig! Poi können ausgeliehen werden.\nAnmeldung unter: office@vivien-fantasydance.at\nWorkshopleitung: @vivien_fantasydance
URL:https://www.explosiv.at/event/workshop-poi-spin-fuer-anfaengerinnen-3/
CATEGORIES:Events,Explo Academy: Workshop
ATTACH;FMTTYPE=image/jpeg:https://www.explosiv.at/wp-content/uploads/2022/07/PoiSpin_2022_Herbst_FB.jpg
END:VEVENT
BEGIN:VEVENT
DTSTART;TZID=Europe/Berlin:20220922T180000
DTEND;TZID=Europe/Berlin:20220922T233000
DTSTAMP:20260423T115752
CREATED:20220905T070953Z
LAST-MODIFIED:20220905T085452Z
UID:13011-1663869600-1663889400@www.explosiv.at
SUMMARY:Symphonic Metal Night: Visions Of Atlantis (A); Xandria (D)
DESCRIPTION:Einlass: 18:00 Uhr\nBeginn: 18:45 Uhr\nEintritt: AK 29\,–/ VVK 25\,–\nTickets: www.napalmrecords.com\nVISIONS OF ATLANTIS \nXANDRIA
URL:https://www.explosiv.at/event/symphonic-metal-night-visions-of-atlantis-a-xandria-d/
LOCATION:Explosiv Halle\, Bahnhofgürtel 55A\, Graz\, 8020\, Österreich
CATEGORIES:Events,Metal
ATTACH;FMTTYPE=image/jpeg:https://www.explosiv.at/wp-content/uploads/2022/09/285234793_554795929339832_5084958473300169668_n-scaled.jpg
END:VEVENT
BEGIN:VEVENT
DTSTART;TZID=Europe/Berlin:20220923T170000
DTEND;TZID=Europe/Berlin:20220923T233000
DTSTAMP:20260423T115752
CREATED:20220706T090425Z
LAST-MODIFIED:20220708T093902Z
UID:12927-1663952400-1663975800@www.explosiv.at
SUMMARY:5 Uhr Tee - Backyard Fever: DJ Romeo (A); DJ Hoerminator (A)
DESCRIPTION:Einlass: 17:00 Uhr\nEintritt: frei\nBACKYARD FEVER\nLasst die Tanzfläche kochen. Eine geballte Ladung heißer Musik von Soul bis Punk\, von Rock bis Funk\, sowie eine Prise Ska und Reggae erwartet euch\, wenn das Weinviertler Dynamit DJ HOERMINATOR auf den hottest DJ der südlichen Steiermark – DJ ROMEO – trifft .Wir servieren euch unkaputtbare Nummern von den 60ern aufwärts – heiß\, tanzbar und voller Kraft. Sexy Tracks treffen auf wilde Hits\, Rares mischt sich mit Evergreens. Nach dem Motto: Kommen\, Tanzen\, Feiern\, glücklich sein!
URL:https://www.explosiv.at/event/5-uhr-tee-the-golden-greats-dj-romeo-a-dj-hoerminator-a/
LOCATION:Explosiv Bar\, Bahnhofgürtel 55A\, Graz\, 8020\, Österreich
CATEGORIES:DJ Line/ Party,Events
ATTACH;FMTTYPE=image/jpeg:https://www.explosiv.at/wp-content/uploads/2022/07/5UhrTee_20220923_DJRomeo_FB1.jpg
END:VEVENT
BEGIN:VEVENT
DTSTART;TZID=Europe/Berlin:20220924T193000
DTEND;TZID=Europe/Berlin:20220924T220000
DTSTAMP:20260423T115752
CREATED:20220713T195026Z
LAST-MODIFIED:20220909T083616Z
UID:12946-1664047800-1664056800@www.explosiv.at
SUMMARY:Tides of Sand (A); Forgotten in Progress (A)
DESCRIPTION:Einlass: 19:30 Uhr\nEintritt: freiwillige Spende\nTIDES OF SAND\nMelodic Metal Band aus Graz\, neben selbst geschriebenen Songs ist von IRON MAIDEN über MEGADETH bis zu AVENGED SEVENFOLD alles dabei was das Metalherz begehrt. \nFORGOTTEN IN PROGRESS\nTrotz der Nerven zehrenden Pandemie im Jahr 2020 fassten sich vier Jungs aus der Steiermark ein Herz und gründeten mitten in dieser schweren Zeit die Band FORGOTTEN IN PROGRESS\, kurz FiP. Sie vereinen in dieser neuen Formierung die unterschiedlichsten Genres. Unter anderem\, Metalcore\, Nu Metal und Einflüsse aus dem Post Hardcore und Alternative Metal. Die Songs bestehen aus heavy Riffs\, treibendem Schlagzeug\, groovigen Bass sowie cleanen melodischen als auch gescreamten Vocals welche zusammen den Sound von FORGOTTEN IN PROGRESS formen und ausmachen. Die Texte der Band behandeln sowohl Vergangenheit\, Gegenwart als auch die Ungewissheit der Zukunft im Leben. Jeder der vier ist mit vollem Ehrgeiz bei der Sache und man merkt\, dass ihr ganzes Herzblut in die Songs fließt.
URL:https://www.explosiv.at/event/tides-of-sand-a/
LOCATION:Explosiv Bar\, Bahnhofgürtel 55A\, Graz\, 8020\, Österreich
CATEGORIES:Events,Open Stage
ATTACH;FMTTYPE=image/jpeg:https://www.explosiv.at/wp-content/uploads/2022/07/OpenStage_20220924_TidesOfSand_FB-1.jpg
END:VEVENT
BEGIN:VEVENT
DTSTART;TZID=Europe/Berlin:20220930T193000
DTEND;TZID=Europe/Berlin:20220930T233000
DTSTAMP:20260423T115752
CREATED:20220720T190734Z
LAST-MODIFIED:20220909T091006Z
UID:12957-1664566200-1664580600@www.explosiv.at
SUMMARY:Raschbach® (A); 8051 (A)
DESCRIPTION:Einlass: 19:30 Uhr\nEintritt: freiwillige Spende \nRASCHBACH®\nMusik\, durchzogen von Schlager\, Indie und Rock. Deutschsprachig\, mühevoll aus den Tiefen des Herzens und der Seele herausgeschält. Melancholisch\, zynisch\, entfremdet\, voller Sehnsucht. Und endlich: Album Release Party! Zwölf Perlen der RASCHBACH Musik gibt es nun auf CD: „Hauch von Herbst“ (die Platte kommt später).\nNeue CD\, noch neuere Lieder – die Welt wartet\, die Fans freuen sich. Fans? Ja\, Fans\, die gibt es\, reichlich sogar. \n8051\nPop
URL:https://www.explosiv.at/event/raschbach-a-junge-vorband-aus-graz-a/
LOCATION:Explosiv Bar\, Bahnhofgürtel 55A\, Graz\, 8020\, Österreich
CATEGORIES:Events,Open Stage
ATTACH;FMTTYPE=image/jpeg:https://www.explosiv.at/wp-content/uploads/2022/07/OpenStage_20220930_Raschbach_FB-1.jpg
END:VEVENT
END:VCALENDAR