BEGIN:VCALENDAR
VERSION:2.0
PRODID:-//Explosiv - ECPv6.15.20//NONSGML v1.0//EN
CALSCALE:GREGORIAN
METHOD:PUBLISH
X-WR-CALNAME:Explosiv
X-ORIGINAL-URL:https://www.explosiv.at
X-WR-CALDESC:Veranstaltungen für Explosiv
REFRESH-INTERVAL;VALUE=DURATION:PT1H
X-Robots-Tag:noindex
X-PUBLISHED-TTL:PT1H
BEGIN:VTIMEZONE
TZID:Europe/Berlin
BEGIN:DAYLIGHT
TZOFFSETFROM:+0100
TZOFFSETTO:+0200
TZNAME:CEST
DTSTART:20210328T010000
END:DAYLIGHT
BEGIN:STANDARD
TZOFFSETFROM:+0200
TZOFFSETTO:+0100
TZNAME:CET
DTSTART:20211031T010000
END:STANDARD
BEGIN:DAYLIGHT
TZOFFSETFROM:+0100
TZOFFSETTO:+0200
TZNAME:CEST
DTSTART:20220327T010000
END:DAYLIGHT
BEGIN:STANDARD
TZOFFSETFROM:+0200
TZOFFSETTO:+0100
TZNAME:CET
DTSTART:20221030T010000
END:STANDARD
BEGIN:DAYLIGHT
TZOFFSETFROM:+0100
TZOFFSETTO:+0200
TZNAME:CEST
DTSTART:20230326T010000
END:DAYLIGHT
BEGIN:STANDARD
TZOFFSETFROM:+0200
TZOFFSETTO:+0100
TZNAME:CET
DTSTART:20231029T010000
END:STANDARD
END:VTIMEZONE
BEGIN:VEVENT
DTSTART;TZID=Europe/Berlin:20221001T180000
DTEND;TZID=Europe/Berlin:20221001T233000
DTSTAMP:20260423T132300
CREATED:20220905T084519Z
LAST-MODIFIED:20220905T084520Z
UID:13021-1664647200-1664667000@www.explosiv.at
SUMMARY:Volk Metal Jacket Rock Night 2022: Glitter Pilots (A); Sonic Riot (A); Wings Of Glory (A); Mad Soul Empire (A); Qualz (A)
DESCRIPTION:Einlass: 18:00 Uhr\nBeginn: 19:00 Uhr\nEintritt: AK 15\,–/ VVK 12\,–\nTickets: www.volkmetaljacket.com\, Tick Tack (Maygasse 12\, 8010 Graz) Explosiv und bei allen Bands\nGLITTER PILOTS\nDie GLITTER PILOTS laden zum Flug durch die 80er. Mit einer erlesenen Auswahl an Hits aus der Glam- und Dirt-Ära – präsentiert in neuem Gewand – bringen sie jeden Passagier zum Abheben. Open your seat belts for Rock’n’Roll! \nSONIC RIOT\nwurden im November 2015 gegründet und finden sich nach zwei Besetzungswechseln an Gitarre und Bass\, am Anfang ihrer Laufbahn\, in der heutigen Form wieder. Die Band besteht aus fünf Jungs\, welche die gleiche Leidenschaft für die harte Musik der 80er und ihre modernen Auswüchse teilen. Inspiriert durch Bands wie zum Beispiel SKID ROW\, IRON MAIDEN\, G’N’R\, JUDAS PRIEST\, ALTER BRIDGE und BMTH liefern SONIC RIOT einen modernen Sound\, der seinen Wurzeln immer treu geblieben ist. Die Mitglieder sind allesamt erfahrene Bühnenveteranen\, welche schon in anderen Bands mitwirkten. Getragen wird der Sound von SONIC RIOT von den harten Drums von Schlagzeuger Loris Doff und Andrej Samsanovich’s Bass lines. Paul Arzberger und Markus Schemitsch übernehmen beide mal die Rhythmus- mal die Leadgitarre und Raphael Tukovics vollendet das Ganze mit seiner Stimme. Nach ihrer ersten Show im April 2016\, führte der Weg der Band auf Bühnen und Festivals in Deutschland\, Italien\, Wien\, Kärnten und natürlich auch in die Locations ihrer Heimat Graz. Aktuell arbeitet die Band am Abschluss der Aufnahmen für ihr erstes Album\, sowie an weiteren internationalen und nationalen Kooperationen. SONIC RIOT stehen für energiegeladene Live Shows von denen keine der anderen gleicht und welche für das Publikum nicht nur ein Konzert\, sondern ein echtes Erlebnis sein sollen. An erster Stelle stehen immer die Fans und der Kontakt zur Crowd\, denn ihr Applaus ist der größte Lohn der Band. \nWINGS OF GLORY\naus Graz rocken seit 2014 die nationalen und internationalen Bühnen und werden für ihre mitreißenden Liveshows gefeiert. Anfänglich noch dem klassischen Heavy Metal verschrieben\, haben sie sich zu einer subgenreübergreifenden Metal-Formation entwickelt\, bei deren Repertoire kein Auge trocken bleiben dürfte. \nMAD SOUL EMPIRE\nDie im Jahr 2011 gegründete Band hat ihre Wurzeln im legendären Grazer Szenelokal Club Q. Anfänglich unter dem Künstlernamen der damaligen Sängerin\, dem Genre AcousticSlutRock verschrieben\, widmete sich die Band nach Eintritt des früheren Leadgitarristen fortan verzerrten Gitarrensounds\, gab sich nach Frontfrauenwechsel den Namen MAD SOUL EMPIRE als Ausdruck der chaotischen Bandkonstellation und komponiert seither genrefrei nach Lust und Laune. \nQUALZ\nvereinen Einflüsse aus Progressive\, Heavy und Power Metal und schaffen damit eine einzigartige Kombination aus fetzigen Riffs\, groovigen Beats und epischen Vocals mit Wiedererkennungswer. Zuletzt konnte man QUALZ im Finale des Tomorrow Beats Festivals im Dom im Berg sehen\, davor im PPC und in some student’s living room. Es wird gemunkelt\, dass man sich im Laufe des nächsten Jahres auf QUALZ’s erstes Album freuen darf…
URL:https://www.explosiv.at/event/volk-metal-jacket-rock-night-2022-glitter-pilots-a-sonic-riot-a-wings-of-glory-a-mad-soul-empire-a-qualz-a/
LOCATION:Explosiv Halle\, Bahnhofgürtel 55A\, Graz\, 8020\, Österreich
CATEGORIES:Events,Metal
ATTACH;FMTTYPE=image/jpeg:https://www.explosiv.at/wp-content/uploads/2022/09/299364379_5721682707893880_3741183859445679242_n.jpg
END:VEVENT
BEGIN:VEVENT
DTSTART;TZID=Europe/Berlin:20221004T173000
DTEND;TZID=Europe/Berlin:20221004T183000
DTSTAMP:20260423T132300
CREATED:20220511T074210Z
LAST-MODIFIED:20220524T113526Z
UID:12819-1664904600-1664908200@www.explosiv.at
SUMMARY:Hula Hoop Workshop – HoopDance für AnfängerInnen
DESCRIPTION:Einlass: 17:00 Uhr\nBeginn: 17:30 Uhr – 18:30 Uhr\nEintritt: freiwillige Spende ((Spendenempfehlung 10\,– bis 15\,–)\nAnfängerInnen Workshop für Groß und Klein:\nDu möchtest etwas Neues ausprobieren? Lust auf Tanz\, Abwechslung und Fitness im Einklang? Dann bist du bei HoopDance genau richtig!\nLerne die Grundlagen kennen\, den richtigen Umgang mit dem Reifen und Tricks und Kniffe\, die dir das Spiel zur reinen Freude machen! Spielerisch und effizient werden alle Muskeln\, Gleichgewicht und Ausdauer trainiert.\nkeine Vorkenntnisse notwendig;\nkeine Voranmeldung;\nReifen werden zur Verfügung gestellt (auch kleine Reifen für Kinder)\nEmpfehlung: Eng anliegende Kleidung aus Baumwolle\nMaga. phil. Katharina Nelböck-Hochstetter\, zertifizierte HoopDance-Instruktorin\nHomepage: https://www.hoop-r-evolution.at\nEmail: hoop-revolution@gmx.at
URL:https://www.explosiv.at/event/hula-hoop-workshop-hoopdance-fuer-anfaengerinnen-7/
CATEGORIES:Explo Academy: Workshop
ATTACH;FMTTYPE=image/jpeg:https://www.explosiv.at/wp-content/uploads/2022/05/HoopDance_2022_FB_V2.jpg
END:VEVENT
BEGIN:VEVENT
DTSTART;TZID=Europe/Berlin:20221006T193000
DTEND;TZID=Europe/Berlin:20221006T220000
DTSTAMP:20260423T132300
CREATED:20220716T110259Z
LAST-MODIFIED:20220912T075839Z
UID:12949-1665084600-1665093600@www.explosiv.at
SUMMARY:Event Horizon (A)
DESCRIPTION:Einlass: 19:30 Uhr\nEintritt: freiwillige Spende\nEVENT HORIZON\nsind eine vierköpfige Thrash/ Heavy Metal Band aus Graz. Ihre Musik kombiniert traditionellen Thrash Metal mit modernen Akzenten aus anderen Sub-Genres.
URL:https://www.explosiv.at/event/event-horizon-a/
LOCATION:Explosiv Bar\, Bahnhofgürtel 55A\, Graz\, 8020\, Österreich
CATEGORIES:Events,Open Stage
ATTACH;FMTTYPE=image/jpeg:https://www.explosiv.at/wp-content/uploads/2022/07/OpenStage_20221006_EventHorizon_FB.jpg
END:VEVENT
BEGIN:VEVENT
DTSTART;TZID=Europe/Berlin:20221007T190000
DTEND;TZID=Europe/Berlin:20221007T233000
DTSTAMP:20260423T132300
CREATED:20220222T134115Z
LAST-MODIFIED:20221006T082719Z
UID:12646-1665169200-1665185400@www.explosiv.at
SUMMARY:Abgesagt!!  Never trust a Hippy: DJ Romeo (A); DJ Martin Murpott (A)
DESCRIPTION:Einlass: 19:00 Uhr\nBeginn: 19:30 Uhr\nEintritt: frei\nNever trust a Hippy\nUnd das aus gutem Grund! Auf was ihr allerdings vertrauen dürft ist\, dass DJ ROMEO himself eure halb verstaubten Synthie-Pop-Ohren an diesem Freitag mit massig Punkrock & HC auf Vordermann bringen wird. Nicht umsonst nennt man ihn auch den „JOHN PEEL der südlichen Steiermark“ und nicht umsonst wird er als heißeste Ü50-Aktie seit Anbeginn der Grazer Underground-Szene gehandelt. Mit MARTIN MURPOTT steht ihm dabei einer der aufstrebensten Sterne am sich ständig drehendem Vinyl-Himmel zur Seite. Weniger bekannt aus Film\, Funk & Fernsehen\, dafür aber von allen anderen Plätzen\, wo jemals Punkrock betrieben wurde\, wird auch er seinen Musikgeschmack zum Besten geben. Hinkommen & erfreuen!
URL:https://www.explosiv.at/event/never-trust-a-hippy-dj-romeo-a-dj-martin-murpott-a-7/
LOCATION:Explosiv Bar\, Bahnhofgürtel 55A\, Graz\, 8020\, Österreich
CATEGORIES:DJ Line/ Party,Events
ATTACH;FMTTYPE=image/jpeg:https://www.explosiv.at/wp-content/uploads/2022/02/Explo-Academy-Never-Trust-A-Hippy-2022_V2-FB.jpg
END:VEVENT
BEGIN:VEVENT
DTSTART;TZID=Europe/Berlin:20221013T193000
DTEND;TZID=Europe/Berlin:20221013T220000
DTSTAMP:20260423T132300
CREATED:20220906T060516Z
LAST-MODIFIED:20221012T164142Z
UID:13030-1665689400-1665698400@www.explosiv.at
SUMMARY:Makeshift  (A)
DESCRIPTION:Einlass: 19:30 Uhr\nEintritt: freiwillige Spende\nMAKESHIFT\nDie Grazer Band vereint in ihrer Musik Thrash Metal\, Progressive Metal und Funk.
URL:https://www.explosiv.at/event/qualz-a/
LOCATION:Explosiv Bar\, Bahnhofgürtel 55A\, Graz\, 8020\, Österreich
CATEGORIES:Events,Open Stage
ATTACH;FMTTYPE=image/jpeg:https://www.explosiv.at/wp-content/uploads/2022/09/OpenStage_20221013_Qualz_FB-1.jpg
END:VEVENT
BEGIN:VEVENT
DTSTART;TZID=Europe/Berlin:20221014T173000
DTEND;TZID=Europe/Berlin:20221014T230000
DTSTAMP:20260423T132300
CREATED:20220721T060455Z
LAST-MODIFIED:20220824T082242Z
UID:12959-1665768600-1665788400@www.explosiv.at
SUMMARY:Zart & Hart : Doomed To Fail (A); Warantee (A); Doppeldecker (A); Cheese & Crackers (A)
DESCRIPTION:Einlass: 17:30 Uhr\nEintritt: AK 10\,–\nDOOMED TO FAIL\nMetal \nWARANTEE\nRock/Metal \nDOPPELDECKER\nRock \nCHEESE & CRACKERS\nPOP/ROCK
URL:https://www.explosiv.at/event/zart-warantee-a-doppeldecker-a/
LOCATION:Explosiv Halle\, Bahnhofgürtel 55A\, Graz\, 8020\, Österreich
CATEGORIES:Events,Metal
ATTACH;FMTTYPE=image/png:https://www.explosiv.at/wp-content/uploads/2022/07/ZuH3_Web_reduziert_klein.png
END:VEVENT
BEGIN:VEVENT
DTSTART;TZID=Europe/Berlin:20221020T080000
DTEND;TZID=Europe/Berlin:20221020T170000
DTSTAMP:20260423T132300
CREATED:20220630T111217Z
LAST-MODIFIED:20221012T123502Z
UID:12915-1666252800-1666285200@www.explosiv.at
SUMMARY:Boing Flip (A); Lili Polenta (A)
DESCRIPTION:Einlass: 19:30 Uhr\nEintritt: freiwillige Spende\nBOING FLIP\nDas Grazer Spaß-Punk-Trio von BOING FLIP hat sich auf schnelle Riffs und deutsche Texte – mit einer Prise Humor – spezialisiert. Support your local Punkband! \nLILI POLENTA\nFunk’N Roll aus der Steiermark. Move your Body\, move your Soul\, LILI P. gives you Funk`n Roll – Drei Grazer und ein Weststeirer mixen alles\, was ihnen gefällt in eigene Songs mit viel Funk\, Punk\, Rock und Sunshine und verneigen sich auch gerne vor ihren Vorbildern.“
URL:https://www.explosiv.at/event/boing-flip-a/
LOCATION:Explosiv Bar\, Bahnhofgürtel 55A\, Graz\, 8020\, Österreich
CATEGORIES:Events,Open Stage
ATTACH;FMTTYPE=image/jpeg:https://www.explosiv.at/wp-content/uploads/2022/06/OpenStage_20221020_BoingFlip_FBNeu.jpg
END:VEVENT
BEGIN:VEVENT
DTSTART;TZID=Europe/Berlin:20221021T180000
DTEND;TZID=Europe/Berlin:20221021T233000
DTSTAMP:20260423T132300
CREATED:20220907T061716Z
LAST-MODIFIED:20220907T061716Z
UID:13035-1666375200-1666395000@www.explosiv.at
SUMMARY:Transcending Visions Fest 2022: Hexvessel (FIN); Dolch (D); Mosaic (D); Vinsta (A)
DESCRIPTION:Einlass 18:00 Uhr\nEintritt:\nTickets: www.ticketmaster.at\nHEXVESSEL\nPsychedelic Forest Folk Rock Band \nDOLCH\nDoom / Black Metal aus Berlin \nMOSAIC\nExperimental Black Metal aus Gotha \nVINSTA\nAlpine-Metal aus Salzburg
URL:https://www.explosiv.at/event/transcending-visions-fest-2022-hexvessel-fin-dolch-d-mosaic-d-vinsta-a/
LOCATION:Explosiv Halle\, Bahnhofgürtel 55A\, Graz\, 8020\, Österreich
CATEGORIES:Events,Metal
ATTACH;FMTTYPE=image/jpeg:https://www.explosiv.at/wp-content/uploads/2022/09/273681952_467519734860550_8108694904214223836_n.jpg
END:VEVENT
BEGIN:VEVENT
DTSTART;TZID=Europe/Berlin:20221023T180000
DTEND;TZID=Europe/Berlin:20221023T233000
DTSTAMP:20260423T132300
CREATED:20220310T141236Z
LAST-MODIFIED:20221004T135013Z
UID:12706-1666548000-1666567800@www.explosiv.at
SUMMARY:Lordi (FIN); Almanac (D); Amalgama (RUS)
DESCRIPTION:Einlass 18:00 Uhr\nBeginn: 18:30 Uhr\nEintritt: AK 35\,–/ VVK 29\,–\nTickets: www.all-stars-events.com\, Oeticket\nLORDI\nHard-Rock- und Heavy-Metal-Band \nALMANAC\nHeavy Metal \nAMALGAMA\nMelodic Metal \n 
URL:https://www.explosiv.at/event/12706/
LOCATION:Explosiv Halle\, Bahnhofgürtel 55A\, Graz\, 8020\, Österreich
CATEGORIES:Events,Metal
ATTACH;FMTTYPE=image/jpeg:https://www.explosiv.at/wp-content/uploads/2022/03/23.10.-Lordi.jpg
END:VEVENT
BEGIN:VEVENT
DTSTART;TZID=Europe/Berlin:20221025T170000
DTEND;TZID=Europe/Berlin:20221025T233000
DTSTAMP:20260423T132300
CREATED:20220718T135113Z
LAST-MODIFIED:20220718T135115Z
UID:12952-1666717200-1666740600@www.explosiv.at
SUMMARY:5 Uhr Tee - Backyard Fever: DJ Romeo (A); DJ Hoerminator (A)
DESCRIPTION:Einlass: 17:00 Uhr\nEintritt: frei\nBACKYARD FEVER\nLasst die Tanzfläche kochen. Eine geballte Ladung heißer Musik von Soul bis Punk\, von Rock bis Funk\, sowie eine Prise Ska und Reggae erwartet euch\, wenn das Weinviertler Dynamit DJ HOERMINATOR auf den hottest DJ der südlichen Steiermark – DJ ROMEO – trifft .Wir servieren euch unkaputtbare Nummern von den 60ern aufwärts – heiß\, tanzbar und voller Kraft. Sexy Tracks treffen auf wilde Hits\, Rares mischt sich mit Evergreens. Nach dem Motto: Kommen\, Tanzen\, Feiern\, glücklich sein!
URL:https://www.explosiv.at/event/5-uhr-tee-backyard-fever-dj-romeo-a-dj-hoerminator-a/
LOCATION:Explosiv Bar\, Bahnhofgürtel 55A\, Graz\, 8020\, Österreich
CATEGORIES:DJ Line/ Party,Events
ATTACH;FMTTYPE=image/jpeg:https://www.explosiv.at/wp-content/uploads/2022/07/5UhrTee_20221025_DJRomeo_FB.jpg
END:VEVENT
BEGIN:VEVENT
DTSTART;TZID=Europe/Berlin:20221029T183000
DTEND;TZID=Europe/Berlin:20221029T233000
DTSTAMP:20260423T132300
CREATED:20220905T080952Z
LAST-MODIFIED:20220905T080953Z
UID:13018-1667068200-1667086200@www.explosiv.at
SUMMARY:Volk Metal Jacket 2022: Dystersol (A); Interregnum (A); Scion of Darkness (A); Justice Lost (A)
DESCRIPTION:Einlass: 18:30 Uhr\nBeginn: 19:00 Uhr\nEintritt: AK 18\,–/ VVK 15\,–\nTickets: www.volkmetaljacket.com\nDYSTERSOL\nModern Metal aus Aflenz \nINTERREGNUM\nMelodic Death Metal \nSCION OF DARKNESS\nDeath Metal aus Klagenfurt \nJUSTICE LOST\nThrash Metal
URL:https://www.explosiv.at/event/volk-metal-jacket-2022-dystersol-a-interregnum-a-scion-of-darkness-a-justice-lost-a/
LOCATION:Explosiv Halle\, Bahnhofgürtel 55A\, Graz\, 8020\, Österreich
CATEGORIES:Events,Metal
ATTACH;FMTTYPE=image/jpeg:https://www.explosiv.at/wp-content/uploads/2022/09/305065394_5772653806130103_6257831323287978548_n.jpg
END:VEVENT
END:VCALENDAR