BEGIN:VCALENDAR
VERSION:2.0
PRODID:-//Explosiv - ECPv6.15.20//NONSGML v1.0//EN
CALSCALE:GREGORIAN
METHOD:PUBLISH
X-ORIGINAL-URL:https://www.explosiv.at
X-WR-CALDESC:Veranstaltungen für Explosiv
REFRESH-INTERVAL;VALUE=DURATION:PT1H
X-Robots-Tag:noindex
X-PUBLISHED-TTL:PT1H
BEGIN:VTIMEZONE
TZID:Europe/Berlin
BEGIN:DAYLIGHT
TZOFFSETFROM:+0100
TZOFFSETTO:+0200
TZNAME:CEST
DTSTART:20220327T010000
END:DAYLIGHT
BEGIN:STANDARD
TZOFFSETFROM:+0200
TZOFFSETTO:+0100
TZNAME:CET
DTSTART:20221030T010000
END:STANDARD
BEGIN:DAYLIGHT
TZOFFSETFROM:+0100
TZOFFSETTO:+0200
TZNAME:CEST
DTSTART:20230326T010000
END:DAYLIGHT
BEGIN:STANDARD
TZOFFSETFROM:+0200
TZOFFSETTO:+0100
TZNAME:CET
DTSTART:20231029T010000
END:STANDARD
BEGIN:DAYLIGHT
TZOFFSETFROM:+0100
TZOFFSETTO:+0200
TZNAME:CEST
DTSTART:20240331T010000
END:DAYLIGHT
BEGIN:STANDARD
TZOFFSETFROM:+0200
TZOFFSETTO:+0100
TZNAME:CET
DTSTART:20241027T010000
END:STANDARD
END:VTIMEZONE
BEGIN:VEVENT
DTSTART;TZID=Europe/Berlin:20231103T190000
DTEND;TZID=Europe/Berlin:20231103T233000
DTSTAMP:20260421T104122
CREATED:20231004T120901Z
LAST-MODIFIED:20231004T120901Z
UID:13801-1699038000-1699054200@www.explosiv.at
SUMMARY:Never trust a Hippy - DJ Romeo (A); DJ Martin Murpott (A)
DESCRIPTION:Einlass: 19:00 Uhr\nEintritt: frei\nAuch im Jahre 54 nach Woodstocks Geburt noch nicht! Doch die die dunkle Seite des Rock’n’Rolls ist gleichermaßen stark wie von Patschuliduft geschwängert\, weswegen es erneut an DJ ROMEO und MARTIN MURPOTT liegt\, die Musikwelt vor elendslangen Gitarrensoli\, Pink Floyd oder schlimmeren zu retten. So mag der Weg oft steinig\, das Vinyl überteuert und der Gerstensaft abgestanden erscheinen\, ist es doch stets die Hoffnung nach einem besseren Plattengeschmack\, welche unsere Helden hinter die Turntables treibt. Bewaffnet mit einem großen Arsenal an Punk\, Wave & Hardcore stellen sie sich nicht nur ihrem eigenen Schicksal\, sondern ebenso den Mächten des musikalischen Bösen. Aber kann dieser Kampf ohne ihr freitägliches Publikum überhaupt gewonnen werden? Man wagt es zu bezweifeln…
URL:https://www.explosiv.at/event/never-trust-a-hippy-dj-romeo-a-dj-martin-murpott-a-12/
LOCATION:Explosiv Bar\, Bahnhofgürtel 55A\, Graz\, 8020\, Österreich
CATEGORIES:Eigenveranstaltung
ATTACH;FMTTYPE=image/jpeg:https://www.explosiv.at/wp-content/uploads/2023/01/NeverTrustAHippy_2023_FB.jpg
END:VEVENT
BEGIN:VEVENT
DTSTART;TZID=Europe/Berlin:20231104T170000
DTEND;TZID=Europe/Berlin:20231104T233000
DTSTAMP:20260421T104122
CREATED:20230709T092715Z
LAST-MODIFIED:20231018T093037Z
UID:13575-1699117200-1699140600@www.explosiv.at
SUMMARY:Black Ritual Graz 2023: Ancient Rites (BEL); Irdorath (A); Asmodeus (A); Saturnists (A); Voidstalker (A); Lehm (A)
DESCRIPTION:Einlass: 17:00 Uhr\nEintritt: AK 30\,– / VVK 25\,–\nTickets: Explosiv\, www.universe.com\nANCIENT RITES\nPagan Black Metal \nIRDORATH\nBlack Metal \nASMODEUS\nBlack Metal \nSATURNISTS\nPost Black Metal \nVOIDSTALKER\nBlack Metal \nLEHM\nPost Doom Metal
URL:https://www.explosiv.at/event/black-ritual-graz-2023-ancient-rites-bel-irdorath-a-asmodeus-a-saturnists-a-voidstalker-a-lehm-a/
LOCATION:Explosiv Halle\, Bahnhofgürtel 55A\, Graz\, 8020\, Österreich
CATEGORIES:Events,Metal
ATTACH;FMTTYPE=image/jpeg:https://www.explosiv.at/wp-content/uploads/2023/07/348634238_773645607886993_6201200040279684542_n.jpg
END:VEVENT
BEGIN:VEVENT
DTSTART;TZID=Europe/Berlin:20231108T184500
DTEND;TZID=Europe/Berlin:20231108T194500
DTSTAMP:20260421T104122
CREATED:20230713T171009Z
LAST-MODIFIED:20230728T115954Z
UID:13584-1699469100-1699472700@www.explosiv.at
SUMMARY:Poi Spin für AnfängerInnen
DESCRIPTION:Einlass: 17:00 Uhr\nBeginn: 18:45 Uhr – 19:45 Uhr\nEintritt: freiwillige Spende\nKeine Vorkenntnisse nötig!\nAnmeldung unter: office@vivien-fantasydance.at\nPOI SPIN FÜR ANFÄNGERINNEN\nDu möchtest gleichzeitig etwas für deine Gehirnzellen tun\, Spaß haben und beweglicher werden? Dann freue ich mich dir das Spiel mit dem Poi näherzubringen. Was ist Poi eigentlich? Der Ursprung des Poi liegt bei den Maoris in Neuseeland. „Poi“ ist das Maori-Wort für „Ball“\, der am Ende einer Schnur geführt wird und ein wunderbares Synapsen-Training ist. Die Koordination beider Hände\, das Raum-Lage-Verständnis und die Augen- Hand-Koordination werden dabei gefördert. Da beim Poischwingen die linke und die rechte Körperhälfte permanent zusammenarbeiten\, wird auch die Funktion beider Gehirnhälften angeregt. Die Beweglichkeit im Bereich der Handgelenke\, Arm- und Schultergelenke werden beim Spielen der Poi geschult. Ziel komplexerer Übungen oder beim Tanzen mit den Poi ist die Verbesserung der Beweglichkeit weiterer Körperpartien.\nKeine Vorkenntnisse nötig! Poi können ausgeliehen werden.\nAnmeldung unter: office@vivien-fantasydance.at\nWorkshopleitung: Vivien Fantasydance
URL:https://www.explosiv.at/event/poi-spin-fuer-anfaengerinnen-5/
LOCATION:Explosiv Bar\, Bahnhofgürtel 55A\, Graz\, 8020\, Österreich
CATEGORIES:Events,Explo Academy: Workshop
ATTACH;FMTTYPE=image/jpeg:https://www.explosiv.at/wp-content/uploads/2023/07/PoiSpin_2023_Winter_FB.jpg
END:VEVENT
BEGIN:VEVENT
DTSTART;TZID=Europe/Berlin:20231111T193000
DTEND;TZID=Europe/Berlin:20231111T233000
DTSTAMP:20260421T104122
CREATED:20231005T072457Z
LAST-MODIFIED:20231030T151213Z
UID:13806-1699731000-1699745400@www.explosiv.at
SUMMARY:Herr Kinsky Konzert & Viedeorelease-Party: Herr Kinsky (A); Nicolas Robert Lang (A)
DESCRIPTION:Einlass: 19:30 Uhr\nEintritt: AK 14\,–/ Student:innen/Schüler:einen: 8;– /Wenn du keine Kohle hast: gratis <3\nHERR KINSKY\nEnergiegeladener Austro Indie aus Graz. Zu fünft wurde HERR KINSKY 2017 aus der Taufe gehoben. „Alltagspoesie ohne Kitsch“\, schreibt die Kleine Zeitung in ihrer Albumrezension über die Musik von HERR KINSKY. Das beschreibt den Stil der Band\, die im Mundart-Deutsch ihre Songs zum Besten gibt\, sehr gut. Zu der letzten Single „Boys“ wurde ein Musikvideo gedreht\, das an dem Abend erstmalig gezeigt wird. \nNICOLAS ROBERT LANG\nDer junge Austropopper aus Vöcklabruck unterhaltet sein Publikum seit über zwei Jahren mit gnadenlos beißenden Texten und eingängigen Melodien.
URL:https://www.explosiv.at/event/herr-kinsky-konzert-nicolas-robert-lang-a/
LOCATION:Explosiv Bar\, Bahnhofgürtel 55A\, Graz\, 8020\, Österreich
CATEGORIES:Alternative/Independent/Pop
ATTACH;FMTTYPE=image/jpeg:https://www.explosiv.at/wp-content/uploads/2023/10/IMG-20231005-WA0016.jpg
END:VEVENT
BEGIN:VEVENT
DTSTART;TZID=Europe/Berlin:20231115T184500
DTEND;TZID=Europe/Berlin:20231115T194500
DTSTAMP:20260421T104122
CREATED:20230713T171210Z
LAST-MODIFIED:20230728T120024Z
UID:13586-1700073900-1700077500@www.explosiv.at
SUMMARY:Poi Spin für AnfängerInnen
DESCRIPTION:Einlass: 17:00 Uhr\nBeginn: 18:45 Uhr – 19:45 Uhr\nEintritt: freiwillige Spende\nKeine Vorkenntnisse nötig!\nAnmeldung unter: office@vivien-fantasydance.at\nPOI SPIN FÜR ANFÄNGERINNEN\nDu möchtest gleichzeitig etwas für deine Gehirnzellen tun\, Spaß haben und beweglicher werden? Dann freue ich mich dir das Spiel mit dem Poi näherzubringen. Was ist Poi eigentlich? Der Ursprung des Poi liegt bei den Maoris in Neuseeland. „Poi“ ist das Maori-Wort für „Ball“\, der am Ende einer Schnur geführt wird und ein wunderbares Synapsen-Training ist. Die Koordination beider Hände\, das Raum-Lage-Verständnis und die Augen- Hand-Koordination werden dabei gefördert. Da beim Poischwingen die linke und die rechte Körperhälfte permanent zusammenarbeiten\, wird auch die Funktion beider Gehirnhälften angeregt. Die Beweglichkeit im Bereich der Handgelenke\, Arm- und Schultergelenke werden beim Spielen der Poi geschult. Ziel komplexerer Übungen oder beim Tanzen mit den Poi ist die Verbesserung der Beweglichkeit weiterer Körperpartien.\nKeine Vorkenntnisse nötig! Poi können ausgeliehen werden.\nAnmeldung unter: office@vivien-fantasydance.at\nWorkshopleitung: Vivien Fantasydance
URL:https://www.explosiv.at/event/poi-spin-fuer-anfaengerinnen-6/
LOCATION:Explosiv Bar\, Bahnhofgürtel 55A\, Graz\, 8020\, Österreich
CATEGORIES:Events,Explo Academy: Workshop
ATTACH;FMTTYPE=image/jpeg:https://www.explosiv.at/wp-content/uploads/2023/07/PoiSpin_2023_Winter_FB.jpg
END:VEVENT
BEGIN:VEVENT
DTSTART;TZID=Europe/Berlin:20231117T170000
DTEND;TZID=Europe/Berlin:20231117T233000
DTSTAMP:20260421T104122
CREATED:20230505T153631Z
LAST-MODIFIED:20231004T130751Z
UID:13480-1700240400-1700263800@www.explosiv.at
SUMMARY:Death Ritual Graz 2023: Krisiun (BRA); Baest (DK); Schizophrenia (BEL); Triagone (BEL)
DESCRIPTION:Einlass: 17:00 Uhr\nEintritt: AK 40\,–/ VVK 35\,–\nTickets: www.universe.com\nKRISIUN\nDeath Metal\nBAEST\nDeath Metal \nSCHIZOPHRENIA\nDeathrash Metal \nTRIAGONE\nTech Death Metal
URL:https://www.explosiv.at/event/death-ritual-graz-2023-krisiun-bra-baest-dk-schizophrenia-bel-triagone-bel/
LOCATION:Explosiv Halle\, Bahnhofgürtel 55A\, Graz\, 8020\, Österreich
CATEGORIES:Events,Metal
ATTACH;FMTTYPE=image/jpeg:https://www.explosiv.at/wp-content/uploads/2023/05/345149193_154858560873727_3552383979885636108_n.jpg
END:VEVENT
BEGIN:VEVENT
DTSTART;TZID=Europe/Berlin:20231118T180000
DTEND;TZID=Europe/Berlin:20231118T233000
DTSTAMP:20260421T104122
CREATED:20231008T171021Z
LAST-MODIFIED:20231019T125630Z
UID:13822-1700330400-1700350200@www.explosiv.at
SUMMARY:Eargazmic Winternights Festival 2023: Pain Is (A); Sindustry (D); Psych (A); Forgotten In Progress (A); Warantee (A); Tomorrows Fate (A)
DESCRIPTION:Einlass: 18:00 Uhr\nEintritt: AK 22\,–/ VVK 18\,–\nTickets www.eargazmicnetzwerk.wixsite.com und bei allen Bands\nPAIN IS  \nSINDUSTRY \nPSYCH \nFORGOTTEN IN PROGRESS \nWARANTEE \nTOMORROWS FATE
URL:https://www.explosiv.at/event/eargazmic-winternights-festival-2023-pain-is-a-sindustry-a-psych-a-forgotten-in-progress-a-warantee-a-tomorrows-fate-a/
LOCATION:Explosiv Halle\, Bahnhofgürtel 55A\, Graz\, 8020\, Österreich
CATEGORIES:Events,Metal
ATTACH;FMTTYPE=image/jpeg:https://www.explosiv.at/wp-content/uploads/2023/10/319921362_1197981054136236_453622176116903097_n.jpg
END:VEVENT
BEGIN:VEVENT
DTSTART;TZID=Europe/Berlin:20231121T190000
DTEND;TZID=Europe/Berlin:20231121T220000
DTSTAMP:20260421T104122
CREATED:20231008T164436Z
LAST-MODIFIED:20231008T164436Z
UID:13817-1700593200-1700604000@www.explosiv.at
SUMMARY:Music-Night BORG Monsberger
DESCRIPTION:Einlass: 19:00 Uhr\nEintritt: freiwillige Spende \nMusic-Night BORG Monsberger\nAn zwei Abenden hintereinander präsentieren die Schüler*innen des BORG Monsberger mit zwei verschiedenen Programmen ihr Können! Die nun zum zweiten Mal stattfindende Music-Night zeigt die musikalische Vielfalt der Schule. Der Musikzweig (Instrumentalmusik und Musical) bietet allen musikbegeisterten Jugendlichen eine Plattform. Schulband\, Sänger*innen und Instrumentalist*innen präsentieren ein abwechslungsreiches Programm.
URL:https://www.explosiv.at/event/music-night-borg-monsberger/
LOCATION:Explosiv Bar\, Bahnhofgürtel 55A\, Graz\, 8020\, Österreich
CATEGORIES:Chor,Events
ATTACH;FMTTYPE=image/jpeg:https://www.explosiv.at/wp-content/uploads/2023/10/Music-Night-202324-scaled.jpg
END:VEVENT
BEGIN:VEVENT
DTSTART;TZID=Europe/Berlin:20231122T184500
DTEND;TZID=Europe/Berlin:20231122T194500
DTSTAMP:20260421T104122
CREATED:20230713T171517Z
LAST-MODIFIED:20231008T164637Z
UID:13588-1700678700-1700682300@www.explosiv.at
SUMMARY:Fan Dance Workshops
DESCRIPTION:Einlass: 17:00 Uhr\nBeginn: 18:45 Uhr – 19:45 Uhr\nEintritt: freiwillige Spende\nKeine Vorkenntnisse nötig!\nAnmeldung unter: office@vivien-fantasydance.at\nFAN DANCE WORKSHOPS\nWenn du schon immer wissen wolltest\, wie TänzerInnen oder FlowArt KünstlerInnen die Fächer so mühelos und schön durch die Luft wirbeln lassen\, dann solltest du diesen Workshop nicht verpassen. Hier lernst du Techniken\, Übergänge und auch wie du dich tänzerisch mit den Fächern bewegen kannst. Zusätzlich ist ein tolles Koordinationstraining und es kräftigt deine Arm-\, Schulter- und Bauchmuskulatur.Keine Vorkenntnissen erforderlich!\n(Holz)Fächer werden zur Verfügung gestellt. Zum Mitbringen bitte: enganliegende Kleidung und eventuell etwas zu Trinken.\nBitte um vorzeitige Anmeldung unter: office@vivien-fantasydance.at\nWorkshopleitung: Vivien Fantasydance
URL:https://www.explosiv.at/event/fan-dance-workshops-4/
LOCATION:Explosiv Halle\, Bahnhofgürtel 55A\, Graz\, 8020\, Österreich
CATEGORIES:Events,Explo Academy: Workshop
ATTACH;FMTTYPE=image/jpeg:https://www.explosiv.at/wp-content/uploads/2023/07/FanDance_2023_Winter_FB.jpg
END:VEVENT
BEGIN:VEVENT
DTSTART;TZID=Europe/Berlin:20231122T190000
DTEND;TZID=Europe/Berlin:20231122T220000
DTSTAMP:20260421T104122
CREATED:20231008T164541Z
LAST-MODIFIED:20231008T164541Z
UID:13820-1700679600-1700690400@www.explosiv.at
SUMMARY:Music-Night BORG Monsberger
DESCRIPTION:Einlass: 19:00 Uhr\nEintritt: freiwillige Spende \nMusic-Night BORG Monsberger\nAn zwei Abenden hintereinander präsentieren die Schüler*innen des BORG Monsberger mit zwei verschiedenen Programmen ihr Können! Die nun zum zweiten Mal stattfindende Music-Night zeigt die musikalische Vielfalt der Schule. Der Musikzweig (Instrumentalmusik und Musical) bietet allen musikbegeisterten Jugendlichen eine Plattform. Schulband\, Sänger*innen und Instrumentalist*innen präsentieren ein abwechslungsreiches Programm.
URL:https://www.explosiv.at/event/music-night-borg-monsberger-2/
LOCATION:Explosiv Bar\, Bahnhofgürtel 55A\, Graz\, 8020\, Österreich
CATEGORIES:Chor,Events
ATTACH;FMTTYPE=image/jpeg:https://www.explosiv.at/wp-content/uploads/2023/10/Music-Night-202324-scaled.jpg
END:VEVENT
BEGIN:VEVENT
DTSTART;TZID=Europe/Berlin:20231123T193000
DTEND;TZID=Europe/Berlin:20231123T220000
DTSTAMP:20260421T104122
CREATED:20231006T194634Z
LAST-MODIFIED:20231030T145824Z
UID:13812-1700767800-1700776800@www.explosiv.at
SUMMARY:A Beautiful Place (A)
DESCRIPTION:Einlass: 19:30 Uhr\nEintritt: freiwillige Spende\nA BEAUTIFUL PLACE\nsind eine Folk-Band aus Graz. Die beiden MultiinstrumentalistInnen erkunden die Schnittstellen zwischen Popmusik und Irish Folk. Akustik-Popsongs treffen auf traditionelle irische Instrumente und kreieren eine einzigartige Mischung. In ihren Liedern finden sich zahlreiche Instrumente wie Harmonium\, Concertina\, irische Bouzouki\, Banjo und Gitarre\, die für die nötige Abwechslung und einen eigenständigen Sound sorgen.
URL:https://www.explosiv.at/event/a-beautiful-place-a/
LOCATION:Explosiv Bar\, Bahnhofgürtel 55A\, Graz\, 8020\, Österreich
CATEGORIES:Open Stage
ATTACH;FMTTYPE=image/jpeg:https://www.explosiv.at/wp-content/uploads/2023/10/OpenStage_2023_11_23_ABeautifulPlace_FB.jpg
END:VEVENT
BEGIN:VEVENT
DTSTART;TZID=Europe/Berlin:20231124T190000
DTEND;TZID=Europe/Berlin:20231124T233000
DTSTAMP:20260421T104122
CREATED:20230905T055241Z
LAST-MODIFIED:20231123T140234Z
UID:13725-1700852400-1700868600@www.explosiv.at
SUMMARY:VERSCHOBEN+++ 15 Jahre Missstand +++VERSCHOBEN
DESCRIPTION:VERSCHOBEN+++ 15 Jahre Missstand +++VERSCHOBEN \nEs tut uns aufrichtig leid\, euch mitteilen zu müssen\, dass das geplante Konzert am 24.11.2023 in Graz leider verschoben werden muss. In Anbetracht aktueller Umstände sind wir derzeit nicht in der Lage\, die Veranstaltung durchzuführen. \nEs ist eine schwere Entscheidung\, aber\, in diesem Moment\, auch die einzig richtige. Wir hoffen und bitten um euer Verständnis. Uns ist bewusst\, dass durch die Verschiebung bei vielen von euch Kosten anfallen\, da Unterkünfte und Transfers gebucht und Wochenenden geplant wurden. Das tut uns wahnsinnig leid! \nDie gekauften Tickets für Graz behalten ihre Gültigkeit. Falls ihr eure Tickets zurückgeben wollt\, ist das auch kein Problem. Schreibt uns bitte eine E-Mail an hinterlandshows@outlook.com\, ihr bekommt euer Geld natürlich zurück. \nWir bitten um ein wenig Geduld und melden uns so rasch wir können. Wir danken euch für euren Support und werden die Konzerte sobald wie möglich nachholen. \nMissstand
URL:https://www.explosiv.at/event/15-jahre-missstand-missstand-a-oidorno-d-pestpocken-a-a-guy-named-lou-a/
LOCATION:Explosiv Halle\, Bahnhofgürtel 55A\, Graz\, 8020\, Österreich
CATEGORIES:Events,Punk/Hardcore/Ska
ATTACH;FMTTYPE=image/png:https://www.explosiv.at/wp-content/uploads/2023/09/2023-11-24.png
END:VEVENT
BEGIN:VEVENT
DTSTART;TZID=Europe/Berlin:20231130T190000
DTEND;TZID=Europe/Berlin:20231130T233000
DTSTAMP:20260421T104122
CREATED:20230927T195328Z
LAST-MODIFIED:20230927T195328Z
UID:13787-1701370800-1701387000@www.explosiv.at
SUMMARY:Covernight-Party: Nothammer (A)
DESCRIPTION:Einlass: 19:00 Uhr\nEintritt: frei\nNOTHAMMER\nhaben so ziemlich jede Klanglandschaft der Steiermark verwüstet. Wer in den letzten zehn Jahren bei einem runden Geburtstag in Graz eingeladen war\, kennt sie wahrscheinlich. Die unglaublichste\, komischste und unverwüstlichste Covertruppe\, die diese Stadt je gesehen hat. Bei der Covernight-Party feiert die Band das Leben\, die Musik und sich selbst. Und das ganze bei freiem Eintritt und kaltem Bier. Wer da nicht interessiert ist\, lebt nicht mehr.
URL:https://www.explosiv.at/event/covernight-party-nothammer-a/
LOCATION:Explosiv Bar\, Bahnhofgürtel 55A\, Graz\, 8020\, Österreich
CATEGORIES:Events,Metal
ATTACH;FMTTYPE=image/jpeg:https://www.explosiv.at/wp-content/uploads/2023/09/Nothammer_Screen.jpg
END:VEVENT
END:VCALENDAR